Workbook

Sheet 海外居住者のための収入等申告書
A1: 海外居住者のための収入等申告書
I2: =MAX(修正履歴!A:A) -> 45531
A3: 独立行政法人日本学生支援機構理事長 殿
B5: =" 以下の"&IF(VLOOKUP(H10,計算シート!F15:G22,2,0)=4,"奨学生の適格認定（家計）","者の申込等")&"に際して、収入・所得等を提出すべき者が１月１日時点で日本国外に居住しているため、その収入・所得等の情報を申告します。" -> 以下の者の申込等に際して、収入・所得等を提出すべき者が１月１日時点で日本国外に居住しているため、その収入・所得等の情報を申告します。
E8: 提出日
H9: （ yyyy / m / d ）
B10: 提出する年度（西暦4桁） | D10: 2024 | E10: 申込区分 | H10: 大学院予約採用
B11: =IF(VLOOKUP(H10,計算シート!F15:G22,2,0)=4,"奨学生番号","申込受付番号") -> 申込受付番号 | E11: =IF(VLOOKUP(H10,計算シート!F15:G22,2,0)=4,"","-") -> - | G11: =IF(VLOOKUP(H10,計算シート!F15:G22,2,0)=4,"","-") -> -
B12: =IF(VLOOKUP(H10,計算シート!F15:G22,2,0)=4,"奨学生","申込者")&"本人氏名" -> 申込者本人氏名 | E12: =IF(計算シート!C63=0,"本人生年月日","")
B13: =IF(計算シート!C63=0,"生計維持者１","配偶者")&"の氏名" -> 配偶者の氏名 | H13: =IF(計算シート!C63=0,"（ yyyy / m / d ）","")
B14: =IF(計算シート!C63=0,"生計維持者２"&"の氏名","")
B15: ="※ 以下、収入（所得）は【"&YEAR(計算シート!C46)-1&"年1月1日～12月31日】のものを入力してください。" -> ※ 以下、収入（所得）は【2023年1月1日～12月31日】のものを入力してください。
B16: =" 扶養等の情報は【"&YEAR(計算シート!C46)-1&"年12月31日】現在のものを入力してください。" -> 扶養等の情報は【2023年12月31日】現在のものを入力してください。
A18: =IF(計算シート!C63=0,"奨学生本人情報","※大学院申込の場合、この欄は入力不要です") -> ※大学院申込の場合、この欄は入力不要です | G18: 必要添付書類
A19: 01 | B19: =IF(計算シート!C63=0,"生年月日（yyyy/m/d）","") | D19: =H12 -> 0 | G19: 入力結果に応じて、必要な添付書類
A20: 02 | B20: =IF(計算シート!C63=0,"どちらの生計維持者に扶養されていますか","") | D20: 生計維持者１ | G20: に〇がつきます。機構HPで具体的な
A21: 03 | B21: =IF(計算シート!C63=0,"障がい者に該当していますか","") | D21: 障がい者でない | G21: 必要書類を確認してください。
A22: 04 | B22: =IF(計算シート!C63=0," 生計維持者と同居していますか","") | D22: はい | G22: 1 | H22: 所得金額に関するもの | I22: ○
A23: 05 | B23: =IF(計算シート!C63=0,"奨学生本人に収入（所得）がありますか","") | D23: いいえ | G23: 2 | H23: 配偶者の所得に関するもの | I23: =IF(D32="はい","○"&IF(VLOOKUP(H10,計算シート!F15:G22,2,0)=4,"※",""),"")
A24: 06 | B24: =IF(計算シート!C63=0," 給与収入金額の通貨","") | D24: 日本円 (JPY) | G24: 3 | H24: 世帯構成に関するもの | I24: =IF(SUM(D47:D55,H47:H55)>0,"○","")
A25: 07 | B25: =IF(計算シート!C63=0," 給与収入金額","") | D25: 0 | E25: =MID(D24,SEARCH("(",D24)+1,3) -> JPY | G25: 4 | H25: ひとり親世帯に関するもの | I25: =IF(OR(AND(計算シート!C63=0,D32="いいえ"),AND(計算シート!C63=1,D36="ひとり親である")),"○","")
A26: 08 | B26: =IF(計算シート!C63=0," 給与・年金以外の所得の通貨","") | D26: 日本円 (JPY) | G26: 5 | H26: 障がい者に関するもの | I26: =IF(OR(D21="障がい者である",D21="特別の障がい者である",D35="障がい者である",D35="特別の障がい者である",H35="障がい者である",H35="特別の障がい者である",SUM(D53:D55,H53:H55)>0),"○","")
A27: 09 | B27: =IF(計算シート!C63=0," 給与・年金以外の所得の金額","") | D27: 0 | E27: =MID(D26,SEARCH("(",D26)+1,3) -> JPY
D29: =IF(計算シート!C63=0,"生計維持者１","申込者本人") -> 申込者本人 | H29: =IF(計算シート!C63=0,IF(AND(D32="はい",D33="いいえ"),"生計維持者１の配偶者",IF(AND(D32="はい",D33="はい"),"生計維持者２","")),IF(D32="はい","申込者本人の配偶者",""))
A30: =IF(計算シート!C63=0,"生計維持者","申込者本人")&"の基本情報" -> 申込者本人の基本情報 | H30: =IF(OR(H29="生計維持者１の配偶者",H29="申込者本人の配偶者"),"(配偶者の基本情報）","")
A31: 10 | B31: 生年月日（yyyy/mm/dd） | D31: 18268 | F31: 16 | H31: 18300
A32: 11 | B32: =IF(計算シート!C63=0,"","申込者本人に")&"配偶者はいますか" -> 申込者本人に配偶者はいますか | D32: いいえ
A33: 12 | B33: =IF(計算シート!C63=0," 配偶者は生計維持者２ですか※","") | D33: はい
A34: 13 | B34: 配偶者と同居していますか | D34: はい
A35: 14 | B35: ="障がい者に該当していますか" -> 障がい者に該当していますか | D35: 障がい者でない | F35: 17 | H35: 障がい者でない
A36: 15 | B36: =IF(計算シート!C63=0,"","申込者本人は")&"ひとり親ですか" -> 申込者本人はひとり親ですか | D36: ひとり親でない
A37: =IF(計算シート!C63=0,IF(D32="はい"," ※"&IF(VLOOKUP(H10,計算シート!F15:G19,2,0)=4,"奨学生","申込者")&"の父母が健在である場合、それぞれが生計維持者となりますので、「はい」を選択してください。",""),"")
A38: =IF(計算シート!C63=0,"生計維持者の","")&"収入・所得の情報" -> 収入・所得の情報 | H38: =IF(H29="生計維持者１の配偶者","(配偶者の収入・所得の情報）","")
A39: 18 | B39: 給与収入金額の通貨 | D39: 日本円 (JPY) | F39: 24 | H39: 日本円 (JPY)
A40: 19 | B40: 給与収入金額 | D40: 0 | E40: =MID(D39,SEARCH("(",D39)+1,3) -> JPY | F40: 25 | H40: 0 | I40: =MID(H39,SEARCH("(",H39)+1,3) -> JPY
A41: 20 | B41: 公的年金等収入の通貨 | D41: 日本円 (JPY) | F41: 26 | H41: 日本円 (JPY)
A42: 21 | B42: 公的年金等収入金額 | D42: 0 | E42: =MID(D41,SEARCH("(",D41)+1,3) -> JPY | F42: 27 | H42: 0 | I42: =MID(H41,SEARCH("(",H41)+1,3) -> JPY
A43: 22 | B43: 給与・年金以外の所得の通貨 | D43: 日本円 (JPY) | F43: 28 | H43: 日本円 (JPY)
A44: 23 | B44: 給与・年金以外の所得の金額 | D44: 0 | E44: =MID(D43,SEARCH("(",D43)+1,3) -> JPY | F44: 29 | H44: 0 | I44: =MID(H43,SEARCH("(",H43)+1,3) -> JPY
A46: =IF(計算シート!C63=0,"生計維持者の","")&"扶養の情報（本人や他の生計維持者、配偶者は含めないでください）" -> 扶養の情報（本人や他の生計維持者、配偶者は含めないでください） | H46: =IF(H29="生計維持者１の配偶者","(配偶者の扶養の情報）","")
...

Sheet 【経済基準の適格認定】記入例と注意事項
A1: 【経済基準の適格認定】海外居住者のための収入等申告書の記入例 | L1: 記入にあたっての注意事項
A3: 独立行政法人日本学生支援機構理事長 殿 | L3: 【共通的な事項】
L4: (1)奨学生本人（以下、「本人」という）の生計維持者が、１月１日時点で海外に居住していることを理由として日本国内で住民税を課されていない場合には、この申告書を提出してください。本申告書等に基づき、当機構において生計維持者の支給額算定基準額を算出し、適格認定（家計）を実施します。
B5: 以下の奨学生の適格認定（家計）に際して、収入・所得等の情報を提出すべき者が１月１日時点で日本国外に居住しているため、その収入・所得等の情報を申告します。
L7: (2)この申告書は、PC・スマートフォン等により必要事項を入力した後に、印刷し、証明書類を添付して、当機構の指定する提出先に提出する必要があります。
E8: 提出日 | H8: 44044
H9: （ yyyy / m / d ） | L9: (3)本人やいずれかの生計維持者がマイナンバーを提出できる場合は、その人のマイナンバーは提出する必要があります。本人及び生計維持者２がマイナンバーを提出済で、生計維持者１のみが１月１日時点で海外に居住しておりマイナンバーを提出できていない場合、生計維持者１については本申告書を提出します。
B10: 対象の年度（西暦4桁） | D10: 2020 | E10: 区分 | H10: 経済基準の適格認定
B11: 奨学生番号
B12: 奨学生本人氏名 | D12: 機構 太郎 | E12: 本人生年月日 | H12: 37072 | L12: (4)父母のどちらかが離婚・死別している等で生計維持者が１名の場合は、生計維持者１の欄に入力してください。なお、生計維持者が２名とも１月１日時点で海外に居住しているために日本国内で住民税を課されていない場合には、この申告書１部で、生計維持者２名分の収入（所得）を申告することができます。
B13: 生計維持者１の氏名 | D13: 機構 父 | H13: （ yyyy / m / d ）
B14: 生計維持者２の氏名 | D14: 機構 母
B15: ="※ 以下、収入（所得）は【"&IF(計算シート!C49=1,計算シート!C47,計算シート!C48)&"年1月1日～12月31日】のものを入力してください。" -> ※ 以下、収入（所得）は【2023年1月1日～12月31日】のものを入力してください。 | L15: (5)原則として、日本国外で得た収入については、その証明書に基づき、証明書に記載されているものと同じ通貨で申告する必要があります。これらの通貨は、当機構が日本円に換算して計算します。なお、各通貨の対円レートは、日本銀行が公表している１月分の報告省令レートに基づきます。ただし、米ドルのレートについては、日本銀行が公表している外国為替市況（１月１日時点で確認できる最新のもの）のうち、前営業日円インデックスを参照しています。
B16: =" 扶養等の情報は【"&IF(計算シート!C49=1,計算シート!C47,計算シート!C48)&"年12月31日】現在のものを入力してください。" -> 扶養等の情報は【2023年12月31日】現在のものを入力してください。
A18: 奨学生本人情報 | G18: 必要添付書類
A19: 01 | B19: 生年月日（yyyy/m/d） | D19: =H12 -> 37072 | G19: 入力結果に応じて、必要な添付書類 | L19: 【項目別の注意事項】
A20: 02 | B20: どちらの生計維持者に扶養されていますか | D20: 生計維持者１ | G20: に〇がつきます。機構HPで具体的な | L20: 02.本人がどちらの生計維持者に扶養されているかを選択します。
A21: 03 | B21: 障がい者に該当していますか | D21: 特別の障がい者である | G21: 必要書類を確認してください。 | L21: 03.本人が、所得税法に定める（もしくは、所得税法の定めに該当すると考えられる）障害者であるかを選択します。
A22: 04 | B22: 生計維持者と同居していますか | D22: いいえ | G22: 1 | H22: 所得金額に関するもの | I22: ○ | L22: 04.生計維持者との同居欄は、3で「特別の障がい者である」を選択した場合のみ選択が必要です。
A23: 05 | B23: 奨学生本人に収入（所得）がありますか | D23: はい | G23: 2 | H23: 配偶者の所得に関するもの | I23: ○ | L23: 05.収入（所得）は、適格認定（家計）の前年中に、本人に収入があったかどうかを入力してください。
A24: 06 | B24: 給与収入金額の通貨 | D24: 日本円 (JPY) | G24: 3 | H24: 世帯構成に関するもの | I24: ○ | L24: 06～09.05で「はい」を選んだ場合のみ表示します。得た収入が給与収入だった場合、06でその収入の通貨を選択し、07でその収入金額を入力します。得た収入が事業所得等だった場合、08でその所得の通貨を選択し、09でその所得金額を入力します。
A25: 07 | B25: 給与収入金額 | D25: 0 | E25: JPY | G25: 4 | H25: ひとり親世帯に関するもの
A26: 08 | B26: 給与・年金以外の所得の通貨 | D26: 日本円 (JPY) | G26: 5 | H26: 障がい者に関するもの | I26: ○
A27: 09 | B27: 給与・年金以外の所得の金額 | D27: 0 | E27: JPY
D29: 生計維持者１ | H29: 生計維持者２
A30: 生計維持者の基本情報
A31: 10 | B31: 生年月日（yyyy/mm/dd） | D31: 22037 | F31: 16 | H31: 22037
A32: 11 | B32: 配偶者はいますか | D32: はい | L32: 12.11で「はい」を選択した場合のみ出現します。基本的に「はい」を選択してください。本人の両親がいずれも死去している場合等で、父母でない方が生計維持者である場合のみ、配偶者がいる場合は「いいえ」を選択してください。
A33: 12 | B33: 配偶者は生計維持者２ですか※ | D33: はい
A34: 13 | B34: 配偶者と同居していますか | D34: はい
A35: 14 | B35: 障がい者に該当していますか | D35: 障がい者でない | F35: 17 | H35: 障がい者でない | L35: 14.・17.生計維持者が所得税法に定める（もしくは、所得税法の定めに該当すると考えられる）障害者であるかを選択します。
A36: 15 | B36: =IF(計算シート!C50=0,"寡婦または寡夫ですか","ひとり親ですか") -> ひとり親ですか | D36: 寡婦（夫）でない | L36: 15.寡婦（夫）・ひとり親の選択は、11で「いいえ」を選択した場合のみ選択が必要です。
A37: ※奨学生の父母が健在である場合、それぞれが生計維持者となりますので、「はい」を選択してください。
A38: 生計維持者の収入・所得の情報 | L38: 18.～29.生計維持者それぞれ（生計維持者２がおらず、生計維持者１に配偶者がいる場合は、加えて配偶者）について、給与収入、公的年金等の老齢年金の収入、それ以外の所得のそれぞれの通貨・金額を入力します。いずれも、適格認定（家計）の前年１月１日～12月31日に得た収入（所得）の合算額とします。ただし、12か月分の提出が困難な場合は、10月～12月分の収入（所得）の合算額の４倍を入力し、10月～12月分の証明を提出することでこれに代えることができます。 ・給与でない所得（事業所得、不動産所得、譲渡所得、配当所得等）を給与収入金額に含めることはできません。 ・「公的年金等」は老齢年金を指します。遺族年金、障害年金のような制度は含みません。 ・「給与・年金以外の所得」には、事業所得、不動産所得、譲渡所得、配当所得等の合計額を入力します。
A39: 18 | B39: 給与収入金額の通貨 | D39: オーストラリア・ドル (AUD) | F39: 24 | H39: 日本円 (JPY)
A40: 19 | B40: 給与収入金額 | D40: 42000 | E40: AUD | F40: 25 | H40: 2700000 | I40: JPY
A41: 20 | B41: 公的年金等収入の通貨 | D41: オーストラリア・ドル (AUD) | F41: 26 | H41: 日本円 (JPY)
A42: 21 | B42: 公的年金等収入金額 | D42: 0 | E42: AUD | F42: 27 | H42: 0 | I42: JPY
A43: 22 | B43: 給与・年金以外の所得の通貨 | D43: オーストラリア・ドル (AUD) | F43: 28 | H43: 日本円 (JPY)
A44: 23 | B44: 給与・年金以外の所得の金額 | D44: 3500 | E44: AUD | F44: 29 | H44: 0 | I44: JPY
...

Sheet 【採用の申込み】記入例と注意事項
A1: 【予約採用・定期採用の申込み】海外居住者のための収入等申告書の記入例 | L1: 記入にあたっての注意事項
A3: 独立行政法人日本学生支援機構理事長 殿 | L3: 【共通的な事項】
L4: (1)奨学金申込者（以下、「本人」という）の生計維持者が、１月１日時点で海外に居住していることを理由として日本国内で住民税を課されていない場合には、この申告書を提出してください。本申告書等に基づき、当機構において生計維持者の支給額算定基準額を算出し、奨学金の選考等を実施します。採用された後は、海外で得た収入等がある限り、毎年提出します。
B5: 以下の申込者の奨学金の申込に際して、収入・所得等の情報を提出すべき者が１月１日時点で日本国外に居住しているため、その収入・所得等の情報を申告します。
L7: (2)この申告書は、PC・スマートフォン等により必要事項を入力した後に、印刷し、証明書類を添付して、当機構の指定する提出先に提出する必要があります。
E8: 提出日 | H8: 43647
H9: （ yyyy / m / d ） | L9: (3)本人やいずれかの生計維持者がマイナンバーを提出できる場合は、その人のマイナンバーは提出する必要があります。本人及び生計維持者２がマイナンバーを提出でき、生計維持者１のみが１月１日時点で海外に居住しておりマイナンバーを提出できない場合、本人と生計維持者２はマイナンバーを提出し、生計維持者１については本申告書を提出します。
B10: 対象の年度（西暦4桁） | D10: 2020 | E10: 区分 | H10: 春の大学等在学採用
B11: 受付番号 | D11: 12345678 | E11: － | F11: 101 | G11: － | H11: 901234
B12: 申込者本人氏名 | D12: 機構 太郎 | E12: 本人生年月日 | H12: 37072 | L12: (4)父母のどちらかが離婚・死別している等で生計維持者が１名の場合は、生計維持者１の欄に入力してください。なお、生計維持者が２名とも１月１日時点で海外に居住しているために日本国内で住民税を課されていない場合には、この申告書１部で、生計維持者２名分の収入（所得）を申告することができます。
B13: 生計維持者１の氏名 | D13: 機構 父 | H13: （ yyyy / m / d ）
B14: 生計維持者２の氏名 | D14: 機構 母
B15: ="※ 以下、収入（所得）は【"&IF(計算シート!C49=1,計算シート!C47,計算シート!C48)&"年1月1日～12月31日】のものを入力してください。" -> ※ 以下、収入（所得）は【2023年1月1日～12月31日】のものを入力してください。 | L15: (5)原則として、日本国外で得た収入については、その証明書に基づき、証明書に記載されているものと同じ通貨で申告する必要があります。これらの通貨は、当機構が日本円に換算して計算します。なお、各通貨の対円レートは、日本銀行が公表している１月分の報告省令レートに基づきます。ただし、米ドルのレートについては、日本銀行が公表している外国為替市況（１月１日時点で確認できる最新のもの）のうち、前営業日円インデックスを参照しています。
B16: =" 扶養等の情報は【"&IF(計算シート!C49=1,計算シート!C47,計算シート!C48)&"年12月31日】現在のものを入力してください。" -> 扶養等の情報は【2023年12月31日】現在のものを入力してください。
A18: 申込者本人情報 | G18: 必要添付書類
A19: 01 | B19: 生年月日（yyyy/m/d） | D19: =H12 -> 37072 | G19: 入力結果に応じて、必要な添付書類 | L19: 【項目別の注意事項】
A20: 02 | B20: どちらの生計維持者に扶養されていますか | D20: 生計維持者１ | G20: に〇がつきます。機構HPで具体的な | L20: 02.本人がどちらの生計維持者に扶養されているかを選択します。
A21: 03 | B21: 障がい者に該当していますか | D21: 特別の障がい者である | G21: 必要書類を確認してください。 | L21: 03.本人が、所得税法に定める（もしくは、所得税法の定めに該当すると考えられる）障害者であるかを選択します。
A22: 04 | B22: 生計維持者と同居していますか | D22: いいえ | G22: 1 | H22: 所得金額に関するもの | I22: ○ | L22: 04.生計維持者との同居欄は、3で「特別の障がい者である」を選択した場合のみ選択が必要です。
A23: 05 | B23: 申込者本人に収入（所得）がありますか | D23: はい | G23: 2 | H23: 配偶者の所得に関するもの | I23: ○ | L23: 05.収入（所得）は、申込区分に基づき申告いただく１年間に、本人に収入があったかどうかを入力してください。
A24: 06 | B24: 給与収入金額の通貨 | D24: 日本円 (JPY) | G24: 3 | H24: 世帯構成に関するもの | I24: ○ | L24: 06～09.05で「はい」を選んだ場合のみ表示します。得た収入が給与収入だった場合、06でその収入の通貨を選択し、07でその収入金額を入力します。得た収入が事業所得等だった場合、08でその所得の通貨を選択し、09でその所得金額を入力します。 ※大学院の申し込みの場合、01～09は表示されません。
A25: 07 | B25: 給与収入金額 | D25: 0 | E25: JPY | G25: 4 | H25: ひとり親世帯に関するもの
A26: 08 | B26: 給与・年金以外の所得の通貨 | D26: 日本円 (JPY) | G26: 5 | H26: 障がい者に関するもの | I26: ○
A27: 09 | B27: 給与・年金以外の所得の金額 | D27: 0 | E27: JPY
D29: 生計維持者１ | H29: 生計維持者２
A30: 生計維持者の基本情報 | L30: ※10以降は生計維持者に関する情報の入力になりますが、大学院の申し込みの場合、申込者本人及び申込者本人の配偶者
A31: 10 | B31: 生年月日（yyyy/mm/dd） | D31: 22037 | F31: 16 | H31: 22037 | L31: に関する入力になります。以下の説明の「生計維持者」は「本人又は配偶者」に読み替えてください。
A32: 11 | B32: 配偶者はいますか | D32: はい | L32: 12.11で「はい」を選択した場合のみ出現します（大学院では出現しません）。基本的に「はい」を選択してください。本人の両親がいずれも死去している場合等で、父母でない方が生計維持者である場合のみ、配偶者がいる場合は「いいえ」を選択してください。
A33: 12 | B33: 配偶者は生計維持者２ですか※ | D33: はい
A34: 13 | B34: 配偶者と同居していますか | D34: はい
A35: 14 | B35: 障がい者に該当していますか | D35: 障がい者でない | F35: 17 | H35: 障がい者でない | L35: 14.・17.生計維持者が所得税法に定める（もしくは、所得税法の定めに該当すると考えられる）障害者であるかを選択します。
A36: 15 | B36: 寡婦または寡夫ですか | D36: 寡婦（夫）でない | L36: 15.寡婦（夫）・ひとり親の選択は、11で「いいえ」を選択した場合のみ選択が必要です。
A37: ※申込者の父母が健在である場合、それぞれが生計維持者となりますので、「はい」を選択してください。
A38: 生計維持者の収入・所得の情報 | L38: 18.～29.生計維持者それぞれ（大学院を除き、生計維持者２がおらず、生計維持者１に配偶者がいる場合は、加えて配偶者）について、給与収入、公的年金等の老齢年金の収入、それ以外の所得のそれぞれの通貨・金額を入力します。いずれも、申込区分に基づき申告いただく年の１月１日～12月31日に得た収入（所得）の合算額とします。ただし、12か月分の提出が困難な場合は、10月～12月分の収入（所得）の合算額の４倍を入力し、10月～12月分の証明を提出することでこれに代えることができます。 ・給与でない所得（事業所得、不動産所得、譲渡所得、配当所得等）を給与収入金額に含めることはできません。 ・「公的年金等」は老齢年金を指します。遺族年金、障害年金のような制度は含みません。 ・「給与・年金以外の所得」には、事業所得、不動産所得、譲渡所得、配当所得等の合計額を入力します。
A39: 18 | B39: 給与収入金額の通貨 | D39: オーストラリア・ドル (AUD) | F39: 24 | H39: 日本円 (JPY)
A40: 19 | B40: 給与収入金額 | D40: 42000 | E40: AUD | F40: 25 | H40: 2700000 | I40: JPY
A41: 20 | B41: 公的年金等収入の通貨 | D41: オーストラリア・ドル (AUD) | F41: 26 | H41: 日本円 (JPY)
A42: 21 | B42: 公的年金等収入金額 | D42: 0 | E42: AUD | F42: 27 | H42: 0 | I42: JPY
A43: 22 | B43: 給与・年金以外の所得の通貨 | D43: オーストラリア・ドル (AUD) | F43: 28 | H43: 日本円 (JPY)
A44: 23 | B44: 給与・年金以外の所得の金額 | D44: 3500 | E44: AUD | F44: 29 | H44: 0 | I44: JPY
...

Sheet 前年レート
A1: ↓貼付枠（前年の「当年レート」の□内を貼り付け)
A3: 報告省令レート（令和5年1月分） | K3: 44915
K4: 日本銀行国際局
B6: 「外国為替の取引等の報告に関する省令」第35条第2号に基づき財務大臣
B7: が定める相場（アメリカ合衆国通貨以外の通貨とアメリカ合衆国通貨との間
B8: の換算）について
B10: [令和5年1月中において適用]
M11: 項番 | N11: 通貨一覧 | O11: 対円レート
L12: 財務大臣公示 | M12: 1 | N12: 日本円 (JPY) | O12: 1
B13: 132.56 | C13: 円 ( | D13: 132.56 | E13: JPY) | I13: につき | K13: 1 | L13: 米ドル | M13: 2 | N13: 米ドル (USD) | O13: =B13 -> 132.56
B14: 1 | C14: カナダ・ドル (1 CAD) | I14: につき | K14: 0.744 | L14: 米ドル | M14: 3 | N14: カナダ・ドル (CAD) | O14: =VALUE($K14)/$B14*$B$13 -> 98.62464 | V14: =VALUE($K14)/$B14*$B$13 -> 98.62464
B15: 1 | C15: 中国元 (1 CNY) | I15: 〃 | K15: 0.140 | L15: 〃 | M15: 4 | N15: 中国元 (CNY) | O15: =VALUE($K15)/$B15*$B$13 -> 18.5584
B16: 1 | C16: スウェーデン・クローネ (1 SEK) | I16: 〃 | K16: 0.0938 | L16: 〃 | M16: 5 | N16: スウェーデン・クローネ (SEK) | O16: =VALUE($K16)/$B16*$B$13 -> 12.434128
B17: 1 | C17: スイス・フラン (1 CHF) | I17: 〃 | K17: 1.04 | L17: 〃 | M17: 6 | N17: スイス・フラン (CHF) | O17: =VALUE($K17)/$B17*$B$13 -> 137.8624
B18: 1 | C18: スターリング・ポンド (1 GBP) | I18: 〃 | K18: 1.18 | L18: 〃 | M18: 7 | N18: スターリング・ポンド (GBP) | O18: =VALUE($K18)/$B18*$B$13 -> 156.4208
B19: 1 | C19: ユーロ (1 EUR) | I19: 〃 | K19: 1.02 | L19: 〃 | M19: 8 | N19: ユーロ (EUR) | O19: =VALUE($K19)/$B19*$B$13 -> 135.2112
B20: 1 | C20: アラブ首長国連邦ディルハム (1 AED) | I20: 〃 | K20: 0.272 | L20: 〃 | M20: 9 | N20: アラブ首長国連邦ディルハム (AED) | O20: =VALUE($K20)/$B20*$B$13 -> 36.05632
B21: 1 | C21: アルゼンチン・ペソ (1 ARS) | I21: 〃 | K21: 0.00617 | L21: 〃 | M21: 10 | N21: アルゼンチン・ペソ (ARS) | O21: =VALUE($K21)/$B21*$B$13 -> 0.8178952
B22: 1 | C22: イスラエル・シェケル (1 ILS) | I22: 〃 | K22: 0.288 | L22: 〃 | M22: 11 | N22: イスラエル・シェケル (ILS) | O22: =VALUE($K22)/$B22*$B$13 -> 38.17728
B23: 1 | C23: イラン・リアル (1 IRR) | I23: 〃 | K23: 0.0000238 | L23: 〃 | M23: 12 | N23: イラン・リアル (IRR) | O23: =VALUE($K23)/$B23*$B$13 -> 0.003154928
B24: 1 | C24: インド・ルピー (1 INR) | I24: 〃 | K24: 0.0123 | L24: 〃 | M24: 13 | N24: インド・ルピー (INR) | O24: =VALUE($K24)/$B24*$B$13 -> 1.630488
B25: 100 | C25: インドネシア・ルピア (100 IDR) | I25: 〃 | K25: 0.00639 | L25: 〃 | M25: 14 | N25: インドネシア・ルピア (IDR) | O25: =VALUE($K25)/$B25*$B$13 -> 0.008470584
B26: 1 | C26: オーストラリア・ドル (1 AUD) | I26: 〃 | K26: 0.661 | L26: 〃 | M26: 15 | N26: オーストラリア・ドル (AUD) | O26: =VALUE($K26)/$B26*$B$13 -> 87.62216
... B74: 1 | C74: ロシア・ルーブル (1 RUB) | I74: 〃 | K74: 0.0164 | L74: 〃 | M74: 63 | N74: ロシア・ルーブル (RUB) | O74: =VALUE($K74)/$B74*$B$13 -> 2.173984
B76: 上記以外の外国通貨 | F76: 当該外国通貨のアメリカ合衆国通貨に対する市場実勢
F77: （令和4年11月中における実勢相場の平均値）

Sheet 当年レート
A1: ↓貼付枠
A3: 報告省令レート（令和6年1月分） | K3: 45280
K4: 日本銀行国際局
B6: 「外国為替の取引等の報告に関する省令」第35条第2号に基づき財務大臣
B7: が定める相場（アメリカ合衆国通貨以外の通貨とアメリカ合衆国通貨との間
B8: の換算）について
B10: [令和6年1月中において適用]
M11: 項番 | N11: 通貨一覧 | O11: 対円レート
L12: 財務大臣公示 | M12: 1 | N12: 日本円 (JPY) | O12: 1
B13: 141.62 | C13: 円 ( | D13: 141.62 | E13: JPY) | I13: につき | K13: 1 | L13: 米ドル | M13: 2 | N13: =L13&" (USD)" -> 米ドル (USD) | O13: =B13 -> 141.62
B14: 1 | C14: カナダ・ドル (1 CAD) | I14: につき | K14: 0.730 | L14: 米ドル | M14: 3 | N14: =SUBSTITUTE(C14,TEXT(B14,"g/標準")&" ","") -> カナダ・ドル (CAD) | O14: =VALUE($K14)/$B14*$B$13 -> 103.3826 | V14: =VALUE($K14)/$B14*$B$13 -> 103.3826
B15: 1 | C15: 中国元 (1 CNY) | I15: 〃 | K15: 0.140 | L15: 〃 | M15: 4 | N15: =SUBSTITUTE(C15,TEXT(B15,"g/標準")&" ","") -> 中国元 (CNY) | O15: =VALUE($K15)/$B15*$B$13 -> 19.8268
B16: 1 | C16: スウェーデン・クローネ (1 SEK) | I16: 〃 | K16: 0.0937 | L16: 〃 | M16: 5 | N16: =SUBSTITUTE(C16,TEXT(B16,"g/標準")&" ","") -> スウェーデン・クローネ (SEK) | O16: =VALUE($K16)/$B16*$B$13 -> 13.269794
B17: 1 | C17: スイス・フラン (1 CHF) | I17: 〃 | K17: 1.12 | L17: 〃 | M17: 6 | N17: =SUBSTITUTE(C17,TEXT(B17,"g/標準")&" ","") -> スイス・フラン (CHF) | O17: =VALUE($K17)/$B17*$B$13 -> 158.6144
B18: 1 | C18: スターリング・ポンド (1 GBP) | I18: 〃 | K18: 1.24 | L18: 〃 | M18: 7 | N18: =SUBSTITUTE(C18,TEXT(B18,"g/標準")&" ","") -> スターリング・ポンド (GBP) | O18: =VALUE($K18)/$B18*$B$13 -> 175.6088
B19: 1 | C19: ユーロ (1 EUR) | I19: 〃 | K19: 1.08 | L19: 〃 | M19: 8 | N19: =SUBSTITUTE(C19,TEXT(B19,"g/標準")&" ","") -> ユーロ (EUR) | O19: =VALUE($K19)/$B19*$B$13 -> 152.9496
B20: 1 | C20: アラブ首長国連邦ディルハム (1 AED) | I20: 〃 | K20: 0.272 | L20: 〃 | M20: 9 | N20: =SUBSTITUTE(C20,TEXT(B20,"g/標準")&" ","") -> アラブ首長国連邦ディルハム (AED) | O20: =VALUE($K20)/$B20*$B$13 -> 38.52064
B21: 1 | C21: アルゼンチン・ペソ (1 ARS) | I21: 〃 | K21: 0.00283 | L21: 〃 | M21: 10 | N21: =SUBSTITUTE(C21,TEXT(B21,"g/標準")&" ","") -> アルゼンチン・ペソ (ARS) | O21: =VALUE($K21)/$B21*$B$13 -> 0.4007846
B22: 1 | C22: イスラエル・シェケル (1 ILS) | I22: 〃 | K22: 0.263 | L22: 〃 | M22: 11 | N22: =SUBSTITUTE(C22,TEXT(B22,"g/標準")&" ","") -> イスラエル・シェケル (ILS) | O22: =VALUE($K22)/$B22*$B$13 -> 37.24606
B23: 1 | C23: イラン・リアル (1 IRR) | I23: 〃 | K23: 0.00000230 | L23: 〃 | M23: 12 | N23: =SUBSTITUTE(C23,TEXT(B23,"g/標準")&" ","") -> イラン・リアル (IRR) | O23: =VALUE($K23)/$B23*$B$13 -> 0.000325726
B24: 1 | C24: インド・ルピー (1 INR) | I24: 〃 | K24: 0.0120 | L24: 〃 | M24: 13 | N24: =SUBSTITUTE(C24,TEXT(B24,"g/標準")&" ","") -> インド・ルピー (INR) | O24: =VALUE($K24)/$B24*$B$13 -> 1.69944
B25: 100 | C25: インドネシア・ルピア (100 IDR) | I25: 〃 | K25: 0.00642 | L25: 〃 | M25: 14 | N25: =SUBSTITUTE(C25,TEXT(B25,"g/標準")&" ","") -> インドネシア・ルピア (IDR) | O25: =VALUE($K25)/$B25*$B$13 -> 0.009092004
B26: 1 | C26: オーストラリア・ドル (1 AUD) | I26: 〃 | K26: 0.650 | L26: 〃 | M26: 15 | N26: =SUBSTITUTE(C26,TEXT(B26,"g/標準")&" ","") -> オーストラリア・ドル (AUD) | O26: =VALUE($K26)/$B26*$B$13 -> 92.053
... B74: 1 | C74: ロシア・ルーブル (1 RUB) | I74: 〃 | K74: 0.0111 | L74: 〃 | M74: 63 | N74: =SUBSTITUTE(C74,TEXT(B74,"g/標準")&" ","") -> ロシア・ルーブル (RUB) | O74: =VALUE($K74)/$B74*$B$13 -> 1.571982
B76: 上記以外の外国通貨 | F76: 当該外国通貨のアメリカ合衆国通貨に対する市場実勢
F77: （令和5年11月中における実勢相場の平均値）

Sheet 計算シート
B1: =IF(計算シート!C63=0,"本人","-") -> - | C1: =IF(計算シート!C63=0,"生計維持者１","本人") -> 本人 | D1: =IF(計算シート!C63=0,IF(AND(海外居住者のための収入等申告書!D32="はい",海外居住者のための収入等申告書!D33="いいえ"),"生計１の配偶者","生計維持者２"),"配偶者") -> 配偶者 | F1: 選択肢
A2: 年齢 | B2: =IF(C63=0,DATEDIF(海外居住者のための収入等申告書!D19,計算シート!$C$46,"y"),0) -> 0 | C2: =DATEDIF(海外居住者のための収入等申告書!D31,計算シート!$C$46,"y") -> 73 | D2: =DATEDIF(海外居住者のための収入等申告書!H31,計算シート!$C$46,"y") -> 73
A3: 給与収入金額JPY | B3: =海外居住者のための収入等申告書!D25*VLOOKUP(海外居住者のための収入等申告書!D24,IF($C$49=1,前年レート!$N$12:$O$74,IF($C$49=2,当年レート!$N$12:$O$74,"")),2,0) -> 0 | C3: =海外居住者のための収入等申告書!D40*VLOOKUP(海外居住者のための収入等申告書!D39,IF($C$49=1,前年レート!$N$12:$O$74,IF($C$49=2,当年レート!$N$12:$O$74,"")),2,0) -> 0 | D3: =IF(VLOOKUP(海外居住者のための収入等申告書!$D$32,計算シート!$F$3:$G$10,2,0)=1,海外居住者のための収入等申告書!H40*VLOOKUP(海外居住者のための収入等申告書!H39,IF($C$49=1,前年レート!$N$12:$O$74,IF($C$49=2,当年レート!$N$12:$O$74,"")),2,0),0) -> 0 | F3: はい | G3: 1
A4: 給与所得金額 | B4: =MAX(IF(B3<T11所得区分!$B$16,T12給与所得!$B$2,IF(B3<T11所得区分!$B$17,B3-650000+IF(C50=1,100000,0),IF(B3<T11所得区分!$B$18,T12給与所得!$B$4+IF(C50=1,100000,0),IF(B3<T11所得区分!$B$19,T12給与所得!$B$5+IF(C50=1,100000,0),IF(B3<T11所得区分!$B$20,T12給与所得!$B$6+IF(C50=1,100000,0),IF(B3<T11所得区分!$B$21,T12給与所得!$B$7+IF(C50=1,100000,0),IF(B3<T11所得区分!$B$22,ROUNDDOWN(B3/4000,0)*4000*0.6+IF(C50=1,100000,0),IF(B3<T11所得区分!$B$23,ROUNDDOWN(B3/4000,0)*4000*0.7-180000+IF(C50=1,100000,0),IF(B3<T11所得区分!$B$24,ROUNDDOWN(B3/4000,0)*4000*0.8-540000+IF(C50=1,100000,0),IF(B3<T11所得区分!$B$25-IF(C50=1,1500000,0),B3*0.9-1200000+IF(C50=1,100000,0),B3-2200000+IF(C50=1,250000,0))))))))))),0) -> 0 | C4: =MAX(IF(C3<T11所得区分!$B$16,T12給与所得!$B$2,IF(C3<T11所得区分!$B$17,C3-650000+IF(C50=1,100000,0),IF(C3<T11所得区分!$B$18,T12給与所得!$B$4+IF(C50=1,100000,0),IF(C3<T11所得区分!$B$19,T12給与所得!$B$5+IF(C50=1,100000,0),IF(C3<T11所得区分!$B$20,T12給与所得!$B$6+IF(C50=1,100000,0),IF(C3<T11所得区分!$B$21,T12給与所得!$B$7+IF(C50=1,100000,0),IF(C3<T11所得区分!$B$22,ROUNDDOWN(C3/4000,0)*4000*0.6+IF(C50=1,100000,0),IF(C3<T11所得区分!$B$23,ROUNDDOWN(C3/4000,0)*4000*0.7-180000+IF(C50=1,100000,0),IF(C3<T11所得区分!$B$24,ROUNDDOWN(C3/4000,0)*4000*0.8-540000+IF(C50=1,100000,0),IF(C3<T11所得区分!$B$25-IF(C50=1,1500000,0),C3*0.9-1200000+IF(C50=1,100000,0),C3-2200000+IF(C50=1,250000,0)))))))))))-C51,0) -> 0 | D4: =MAX(IF(D3<T11所得区分!$B$16,T12給与所得!$B$2,IF(D3<T11所得区分!$B$17,D3-650000+IF(C50=1,100000,0),IF(D3<T11所得区分!$B$18,T12給与所得!$B$4+IF(C50=1,100000,0),IF(D3<T11所得区分!$B$19,T12給与所得!$B$5+IF(C50=1,100000,0),IF(D3<T11所得区分!$B$20,T12給与所得!$B$6+IF(C50=1,100000,0),IF(D3<T11所得区分!$B$21,T12給与所得!$B$7+IF(C50=1,100000,0),IF(D3<T11所得区分!$B$22,ROUNDDOWN(D3/4000,0)*4000*0.6+IF(C50=1,100000,0),IF(D3<T11所得区分!$B$23,ROUNDDOWN(D3/4000,0)*4000*0.7-180000+IF(C50=1,100000,0),IF(D3<T11所得区分!$B$24,ROUNDDOWN(D3/4000,0)*4000*0.8-540000+IF(C50=1,100000,0),IF(D3<T11所得区分!$B$25-IF(C50=1,1500000,0),D3*0.9-1200000+IF(C50=1,100000,0),D3-2200000+IF(C50=1,250000,0)))))))))))-D51,0) -> 0 | F4: いいえ | G4: 2
A5: 年金収入金額JPY | B5: 0 | C5: =海外居住者のための収入等申告書!D42*VLOOKUP(海外居住者のための収入等申告書!D41,IF($C$49=1,前年レート!$N$12:$O$74,IF($C$49=2,当年レート!$N$12:$O$74,"")),2,0) -> 0 | D5: =IF(VLOOKUP(海外居住者のための収入等申告書!$D$32,計算シート!$F$3:$G$10,2,0)=1,海外居住者のための収入等申告書!H42*VLOOKUP(海外居住者のための収入等申告書!H41,IF($C$49=1,前年レート!$N$12:$O$74,IF($C$49=2,当年レート!$N$12:$O$74,"")),2,0),0) -> 0 | F5: 障がい者でない | G5: 3
A6: 年金所得金額 | B6: 0 | C6: =MAX(IF(IF(C2<T12給与所得!$B$13,IF(C5<T12給与所得!$B$18,C5-700000+IF(C50=1,100000,0),IF(D5<T12給与所得!$B$19,C5*0.75-375000+IF(C50=1,100000,0),IF(C5<T12給与所得!$B$20,C5*0.85-785000+IF(C50=1,100000,0),C5*0.95-1555000+IF(C50=1,100000,0)))),IF(C5<T12給与所得!$B$14,C5-1200000+IF(C50=1,100000,0),IF(D5<T12給与所得!$B$15,C5*0.75-375000+IF(C50=1,100000,0),IF(C5<T12給与所得!$B$16,C5*0.85-785000+IF(C50=1,100000,0),C5*0.95-1555000+IF(C50=1,100000,0)))))<0,0,IF(C2<T12給与所得!$B$13,IF(C5<T12給与所得!$B$18,C5-700000+IF(C50=1,100000,0),IF(D5<T12給与所得!$B$19,C5*0.75-375000+IF(C50=1,100000,0),IF(C5<T12給与所得!$B$20,C5*0.85-785000+IF(C50=1,100000,0),C5*0.95-1555000+IF(C50=1,100000,0)))),IF(C5<T12給与所得!$B$14,C5-1200000+IF(C50=1,100000,0),IF(D5<T12給与所得!$B$15,C5*0.75-375000+IF(C50=1,100000,0),IF(C5<T12給与所得!$B$16,C5*0.85-785000+IF(C50=1,100000,0),C5*0.95-1555000+IF(C50=1,100000,0)))))),0) -> 0 | D6: =MAX(IF(IF(D2<T12給与所得!$B$13,IF(D5<T12給与所得!$B$18,D5-700000+IF(C50=1,100000,0),IF(D5<T12給与所得!$B$19,D5*0.75-375000+IF(C50=1,100000,0),IF(D5<T12給与所得!$B$20,D5*0.85-785000+IF(C50=1,100000,0),D5*0.95-1555000+IF(C50=1,100000,0)))),IF(D5<T12給与所得!$B$14,D5-1200000+IF(C50=1,100000,0),IF(D5<T12給与所得!$B$15,D5*0.75-375000+IF(C50=1,100000,0),IF(D5<T12給与所得!$B$16,D5*0.85-785000+IF(C50=1,100000,0),D5*0.95-1555000+IF(C50=1,100000,0)))))<0,0,IF(D2<T12給与所得!$B$13,IF(D5<T12給与所得!$B$18,D5-700000+IF(C50=1,100000,0),IF(D5<T12給与所得!$B$19,D5*0.75-375000+IF(C50=1,100000,0),IF(D5<T12給与所得!$B$20,D5*0.85-785000+IF(C50=1,100000,0),D5*0.95-1555000+IF(C50=1,100000,0)))),IF(D5<T12給与所得!$B$14,D5-1200000+IF(C50=1,100000,0),IF(D5<T12給与所得!$B$15,D5*0.75-375000+IF(C50=1,100000,0),IF(D5<T12給与所得!$B$16,D5*0.85-785000+IF(C50=1,100000,0),D5*0.95-1555000+IF(C50=1,100000,0)))))),0) -> 0 | F6: 障がい者である | G6: 4
A7: 事業所得金額JPY | B7: =海外居住者のための収入等申告書!D27*VLOOKUP(海外居住者のための収入等申告書!D26,IF($C$49=1,前年レート!$N$12:$O$74,IF($C$49=2,当年レート!$N$12:$O$74,"")),2,0) -> 0 | C7: =海外居住者のための収入等申告書!D44*VLOOKUP(海外居住者のための収入等申告書!D43,IF($C$49=1,前年レート!$N$12:$O$74,IF($C$49=2,当年レート!$N$12:$O$74,"")),2,0) -> 0 | D7: =IF(VLOOKUP(海外居住者のための収入等申告書!$D$32,計算シート!$F$3:$G$10,2,0)=1,海外居住者のための収入等申告書!H44*VLOOKUP(海外居住者のための収入等申告書!H43,IF($C$49=1,前年レート!$N$12:$O$74,IF($C$49=2,当年レート!$N$12:$O$74,"")),2,0),0) -> 0 | F7: 特別の障がい者である | G7: 5
A8: 合計所得金額 | B8: =IF(VLOOKUP(海外居住者のための収入等申告書!D23,計算シート!F3:G4,2,0)=1,SUM(B4,B6,B7),0) -> 0 | C8: =MAX(SUM(C4,C6,C7,C52),0) -> 0 | D8: =MAX(SUM(D4,D6,D7,D52),0) -> 0 | F8: =IF(C50=0,"寡婦（夫）でない","ひとり親でない") -> ひとり親でない | G8: 6
A9: 配偶者有無 | B9: 0 | C9: =IF(VLOOKUP(海外居住者のための収入等申告書!$D$32,$F$3:$G$13,2,0)=1,1,0) -> 0 | D9: =C9 -> 0 | F9: =IF(C50=0,"寡婦である","ひとり親である") -> ひとり親である | G9: 7 | J9: ・配偶者控除区分の説明
A10: 配偶者控除区分 | B10: ｐ | C10: =IF(C9=1,IF(C8>=D8,IF(C8<=T11所得区分!$B$2+IF(C50=1,100000,0),"A",IF(C8<=T11所得区分!$B$3+IF(C50=1,100000,0),"B",IF(C8<=T11所得区分!$B$4+IF(C50=1,100000,0),"C","D"))),IF(C8<T11所得区分!$B$5+IF(C50=1,100000,0),"e",IF(C8<T11所得区分!$B$6+IF(C50=1,100000,0),"f",IF(C8<T11所得区分!$B$7+IF(C50=1,100000,0),"g",IF(C8<=T11所得区分!$B$8+IF(C50=1,100000,0),"h",IF(C8<=T11所得区分!$B$9+IF(C50=1,100000,0),"i",IF(C8<=T11所得区分!$B$10+IF(C50=1,100000,0),"j",IF(C8<=T11所得区分!$B$11+IF(C50=1,100000,0),"k",IF(C8<=T11所得区分!$B$12+IF(C50=1,100000,0),"l",IF(C8<=T11所得区分!$B$13+IF(C50=1,100000,0),"m",IF(C8<=T11所得区分!$B$14+IF(C50=1,100000,0),"n",IF(C8<=T11所得区分!$B$15+IF(C50=1,100000,0),"o","p")))))))))))),"D") -> D | D10: =IF(VLOOKUP(海外居住者のための収入等申告書!D32,計算シート!F3:G10,2,0)=1,IF(D8>C8,IF(D8<=T11所得区分!$B$2+IF(C50=1,100000,0),"A",IF(D8<=T11所得区分!$B$3+IF(C50=1,100000,0),"B",IF(D8<=T11所得区分!$B$4+IF(C50=1,100000,0),"C","D"))),IF(D8<T11所得区分!$B$5+IF(C50=1,100000,0),"e",IF(D8<T11所得区分!$B$6+IF(C50=1,100000,0),"f",IF(D8<T11所得区分!$B$7+IF(C50=1,100000,0),"g",IF(D8<=T11所得区分!$B$8+IF(C50=1,100000,0),"h",IF(D8<=T11所得区分!$B$9+IF(C50=1,100000,0),"i",IF(D8<=T11所得区分!$B$10+IF(C50=1,100000,0),"j",IF(D8<=T11所得区分!$B$11+IF(C50=1,100000,0),"k",IF(D8<=T11所得区分!$B$12+IF(C50=1,100000,0),"l",IF(D8<=T11所得区分!$B$13+IF(C50=1,100000,0),"m",IF(D8<=T11所得区分!$B$14+IF(C50=1,100000,0),"n",IF(D8<=T11所得区分!$B$15+IF(C50=1,100000,0),"o","p")))))))))))),"p") -> p | F10: =IF(C50=0,"寡夫である","") | G10: 8 | J10: A、B、C…配偶者の所得が低ければ配偶者控除を受けることができる者（控除額は所得により減額される）
A11: 配偶者（特別）控除額 | B11: 0 | C11: =IF(C10="A",IF(D10="e",IF(D2>=70,T13人的控除!$B$6,T13人的控除!$B$3),IF(D10="f",T13人的控除!$B$9,IF(D10="g",T13人的控除!$B$10,IF(D10="h",T13人的控除!$B$11,IF(D10="i",T13人的控除!$B$12,IF(D10="j",T13人的控除!$B$13,IF(D10="k",T13人的控除!$B$14,IF(D10="l",T13人的控除!$B$15,IF(D10="m",T13人的控除!$B$16,IF(D10="n",T13人的控除!$B$17,IF(D10="o",T13人的控除!$B$18,0))))))))))),IF(C10="B",IF(D10="e",IF(D2>=70,T13人的控除!$B$7,T13人的控除!$B$4),IF(D10="f",T13人的控除!$B$19,IF(D10="g",T13人的控除!$B$20,IF(D10="h",T13人的控除!$B$21,IF(D10="i",T13人的控除!$B$22,IF(D10="j",T13人的控除!$B$23,IF(D10="k",T13人的控除!$B$24,IF(D10="l",T13人的控除!$B$25,IF(D10="m",T13人的控除!$B$26,IF(D10="n",T13人的控除!$B$27,IF(D10="o",T13人的控除!$B$28,0))))))))))),IF(C10="C",IF(D10="e",IF(D2>=70,T13人的控除!$B$8,T13人的控除!$B$5),IF(D10="f",T13人的控除!$B$29,IF(D10="g",T13人的控除!$B$30,IF(D10="h",T13人的控除!$B$31,IF(D10="i",T13人的控除!$B$32,IF(D10="j",T13人的控除!$B$33,IF(D10="k",T13人的控除!$B$34,IF(D10="l",T13人的控除!$B$35,IF(D10="m",T13人的控除!$B$36,IF(D10="n",T13人的控除!$B$37,IF(D10="o",T13人的控除!$B$38,0))))))))))),0))) -> 0 | D11: =IF(D10="A",IF(C10="e",IF(C2>=70,T13人的控除!$B$6,T13人的控除!$B$3),IF(C10="f",T13人的控除!$B$9,IF(C10="g",T13人的控除!$B$10,IF(C10="h",T13人的控除!$B$11,IF(C10="i",T13人的控除!$B$12,IF(C10="j",T13人的控除!$B$13,IF(C10="k",T13人的控除!$B$14,IF(C10="l",T13人的控除!$B$15,IF(C10="m",T13人的控除!$B$16,IF(C10="n",T13人的控除!$B$17,IF(C10="o",T13人的控除!$B$18,0))))))))))),IF(D10="B",IF(C10="e",IF(C2>=70,T13人的控除!$B$7,T13人的控除!$B$4),IF(C10="f",T13人的控除!$B$19,IF(C10="g",T13人的控除!$B$20,IF(C10="h",T13人的控除!$B$21,IF(C10="i",T13人的控除!$B$22,IF(C10="j",T13人的控除!$B$23,IF(C10="k",T13人的控除!$B$24,IF(C10="l",T13人的控除!$B$25,IF(C10="m",T13人的控除!$B$26,IF(C10="n",T13人的控除!$B$27,IF(C10="o",T13人的控除!$B$28,0))))))))))),IF(D10="C",IF(C10="e",IF(海外居住者のための収入等申告書!H31>=70,T13人的控除!$B$8,T13人的控除!$B$5),IF(C10="f",T13人的控除!$B$29,IF(C10="g",T13人的控除!$B$30,IF(C10="h",T13人的控除!$B$31,IF(C10="i",T13人的控除!$B$32,IF(C10="j",T13人的控除!$B$33,IF(C10="k",T13人的控除!$B$34,IF(C10="l",T13人的控除!$B$35,IF(C10="m",T13人的控除!$B$36,IF(C10="n",T13人的控除!$B$37,IF(C10="o",T13人的控除!$B$38,0))))))))))),0))) -> 0 | F11: 生計維持者１ | G11: 9 | J11: D…配偶者の所得が低くても配偶者控除を受けることができない者
A12: 扶養控除（一般） | B12: 0 | C12: =SUM(海外居住者のための収入等申告書!D48,海外居住者のための収入等申告書!D50,C36)*T13人的控除!$B$39 -> 0 | D12: =SUM(海外居住者のための収入等申告書!H48,海外居住者のための収入等申告書!H50,D36)*T13人的控除!$B$39 -> 0 | F12: 生計維持者２ | G12: 10 | J12: e…控除対象配偶者/同一生計配偶者
A13: 扶養控除（特定） | B13: 0 | C13: =SUM(C37,海外居住者のための収入等申告書!D49)*T13人的控除!$B$40 -> 0 | D13: =SUM(海外居住者のための収入等申告書!H49,D37)*T13人的控除!$B$40 -> 0 | F13: 扶養されていない | G13: 11 | J13: f～o…特別控除対象配偶者（控除額は所得に応じて変化する。非課税限度に影響しない。）
A14: 扶養控除（老人） | B14: 0 | C14: =海外居住者のための収入等申告書!D52*T13人的控除!$B$41 -> 0 | D14: =海外居住者のための収入等申告書!H52*T13人的控除!$B$41 -> 0 | J14: p…配偶者控除を受けることができる者にも同一生計配偶者にもならない者
A15: 扶養控除（同老） | B15: 0 | C15: =海外居住者のための収入等申告書!D51*T13人的控除!$B$42 -> 0 | D15: =海外居住者のための収入等申告書!H51*T13人的控除!$B$42 -> 0 | F15: 高校等での予約採用 | G15: 1
A16: 障害者控除（一般） | B16: =IF(VLOOKUP(海外居住者のための収入等申告書!D21,計算シート!$F$3:$G$10,2,0)=4,1,0)*T13人的控除!$B$44 -> 0 | C16: =SUM(海外居住者のための収入等申告書!D53,C38,IF(VLOOKUP(海外居住者のための収入等申告書!$D$35,計算シート!$F$3:$G$10,2,0)=4,1,0),IF(AND(D10="e",VLOOKUP(海外居住者のための収入等申告書!$H$35,計算シート!$F$3:$G$10,2,0)=4),1,0))*T13人的控除!$B$44 -> 0 | D16: =SUM(海外居住者のための収入等申告書!H53,D38,IF(VLOOKUP(海外居住者のための収入等申告書!$H$35,計算シート!$F$3:$G$10,2,0)=4,1,0),IF(AND(C10="e",VLOOKUP(海外居住者のための収入等申告書!$D$35,計算シート!$F$3:$G$10,2,0)=4),1,0))*T13人的控除!$B$44 -> 0 | F16: 春の大学等在学採用 | G16: 2
A17: 障害者控除（特定） | B17: =IF(VLOOKUP(海外居住者のための収入等申告書!D21,計算シート!$F$3:$G$10,2,0)=5,1,0)*T13人的控除!$B$45 -> 0 | C17: =SUM(海外居住者のための収入等申告書!D54,C39,IF(VLOOKUP(海外居住者のための収入等申告書!$D$35,計算シート!$F$3:$G$10,2,0)=5,1,0),IF(AND($D$10="e",VLOOKUP(海外居住者のための収入等申告書!$D$34,計算シート!$F$3:$G$10,2,0)=2,VLOOKUP(海外居住者のための収入等申告書!$H$35,計算シート!$F$3:$G$10,2,0)=5),1,0))*T13人的控除!B45 -> 0 | D17: =SUM(海外居住者のための収入等申告書!H54,D39,IF(VLOOKUP(海外居住者のための収入等申告書!H35,計算シート!$F$3:$G$10,2,0)=5,1,0),IF(AND(C10="e",VLOOKUP(海外居住者のための収入等申告書!$D$34,計算シート!$F$3:$G$10,2,0)=2,VLOOKUP(海外居住者のための収入等申告書!$D$35,計算シート!$F$3:$G$10,2,0)=5),1,0))*T13人的控除!B45 -> 0 | F17: 秋の大学等在学採用 | G17: 3
A18: 障害者控除（同特） | B18: 0 | C18: =SUM(海外居住者のための収入等申告書!D55,C40,IF(AND($D$10="e",VLOOKUP(海外居住者のための収入等申告書!$D$34,計算シート!$F$3:$G$10,2,0)=1,VLOOKUP(海外居住者のための収入等申告書!$H$35,計算シート!$F$3:$G$10,2,0)=5),1,0))*T13人的控除!B46 -> 0 | D18: =SUM(海外居住者のための収入等申告書!H55,D40,IF(AND($C$10="e",VLOOKUP(海外居住者のための収入等申告書!$D$34,計算シート!$F$3:$G$10,2,0)=1,VLOOKUP(海外居住者のための収入等申告書!$D$35,計算シート!$F$3:$G$10,2,0)=5),1,0))*T13人的控除!B46 -> 0 | F18: 経済基準の適格認定 | G18: 4
A19: 寡婦控除（本人の場合は勤労学生控除） | B19: =IF(AND(B8<=T13人的控除!B57+IF(C50=1,100000,0),SUM(計算シート!B6:B7)<=100000),T13人的控除!B50,0) -> 260000 | C19: =IFERROR(IF(海外居住者のための収入等申告書!D32="はい",0,IF(C20=0,IF(VLOOKUP(海外居住者のための収入等申告書!D36,計算シート!$F$3:$G$10,2,0)=7,T13人的控除!$B$47,0),0)),0) -> 0 | D19: 0 | F19: 大学院予約採用 | G19: 5
A20: 寡婦特別控除 | B20: 0 | C20: =IFERROR(IF(海外居住者のための収入等申告書!D32="はい",0,IF(AND(VLOOKUP(海外居住者のための収入等申告書!D36,計算シート!$F$3:$G$10,2,0)=7,C8<=T13人的控除!$B$54,SUM(海外居住者のための収入等申告書!D47:D49)>0),T13人的控除!$B$48,0)),0) -> 0 | D20: 0 | F20: 春の大学院在学採用 | G20: 6
A21: ひとり親控除 | B21: 0 | C21: =IFERROR(IF(海外居住者のための収入等申告書!D32="はい",0,IF(AND(VLOOKUP(海外居住者のための収入等申告書!D36,計算シート!$F$3:$G$10,2,0)=8,C8<=T13人的控除!$B$54),T13人的控除!$B$49,0)),0) -> 0 | D21: 0 | F21: 秋の大学院在学採用 | G21: 7
A22: 基礎控除 | B22: =T13人的控除!$B$2+IF(C50=1,100000,0) -> 430000 | C22: =T13人的控除!$B$2+IF(C50=1,100000,0) -> 430000 | D22: =T13人的控除!B2+IF(C50=1,100000,0) -> 430000
A23: 扶養親族等の数 | B23: 0 | C23: =SUM(海外居住者のための収入等申告書!D47:D52,C35:C37,IF(D10="e",1,0)) -> 0 | D23: =SUM(海外居住者のための収入等申告書!H47:H52,D35:D37,IF(C10="e",1,0)) -> 0
A24: 社会保険料等控除 | B24: =SUM(B3,B5,B7)*0.15 -> 0 | C24: =SUM(C3,C5,C7)*0.15 -> 0 | D24: =SUM(D3,D5,D7)*0.15 -> 0
A25: 非課税限度 | B25: =T13人的控除!$B$51+IF(C50=1,100000,0) -> 450000 | C25: =T13人的控除!$B$51*SUM(1,C23)+IF(SUM(C23)>0,T13人的控除!$B$52,0)+IF(C50=1,100000,0) -> 450000 | D25: =T13人的控除!$B$51*SUM(1,D23)+IF(SUM(D23)>0,T13人的控除!$B$52,0)+IF(C50=1,100000,0) -> 450000
A26: 非課税となる基準 | B26: =IF(OR(VLOOKUP(海外居住者のための収入等申告書!D21,計算シート!$F$3:$G$10,2,0)>3,IF(OR(C44<2023,AND(C44=2022,C45=0)),B2<20,B2<18)),T13人的控除!$B$53+IF(C50=1,100000,0),0) -> 1350000 | C26: =IF(OR(SUM(C19:C21)>0,VLOOKUP(海外居住者のための収入等申告書!$D$35,計算シート!$F$3:$G$10,2,0)>3,IF(OR(C44<2023,AND(C44=2022,C45=0)),C2<20,C2<18)),T13人的控除!$B$53+IF(C50=1,100000,0),0) -> 0 | D26: =IF(OR(SUM(D19:D21)>0,VLOOKUP(海外居住者のための収入等申告書!$D$35,計算シート!$F$3:$G$10,2,0)>3,IF(OR(C44<2023,AND(C44=2022,C45=0)),D2<20,D2<18)),T13人的控除!$B$53+IF(C50=1,100000,0),0) -> 0
A27: 所得控除合計額 | B27: =SUM(B11:B22,B24) -> 690000 | C27: =SUM(C11:C22,C24) -> 430000 | D27: =SUM(D11:D22,D24) -> 430000
A28: 課税標準額 | B28: =IF(B8-B27<0,0,ROUNDDOWN(B8-B27,-3)) -> 0 | C28: =IF(C8-C27<0,0,ROUNDDOWN(C8-C27,-3)) -> 0 | D28: =IF(D8-D27<0,0,ROUNDDOWN(D8-D27,-3)) -> 0
A29: 算出税額 | B29: =B28*T16税率等!$B$2/100 -> 0 | C29: =C28*T16税率等!$B$2/100 -> 0 | D29: =D28*T16税率等!$B$2/100 -> 0
A30: 配偶者（特別）の差額 | B30: 0 | C30: =IF(C10="A",IF(D10="e",IF(D2>=70,T15調整控除!$B$6,T15調整控除!$B$3),IF(D10="f",T15調整控除!$B$9,IF(D10="g",T15調整控除!$B$10,IF(D10="h",T15調整控除!$B$11,IF(D10="i",T15調整控除!$B$12,IF(D10="j",T15調整控除!$B$13,IF(D10="k",T15調整控除!$B$14,IF(D10="l",T15調整控除!$B$15,IF(D10="m",T15調整控除!$B$16,IF(D10="n",T15調整控除!$B$17,IF(D10="o",T15調整控除!$B$18,0))))))))))),IF(C10="B",IF(D10="e",IF(D2>=70,T15調整控除!$B$7,T15調整控除!$B$4),IF(D10="f",T15調整控除!$B$19,IF(D10="g",T15調整控除!$B$20,IF(D10="h",T15調整控除!$B$21,IF(D10="i",T15調整控除!$B$22,IF(D10="j",T15調整控除!$B$23,IF(D10="k",T15調整控除!$B$24,IF(D10="l",T15調整控除!$B$25,IF(D10="m",T15調整控除!$B$26,IF(D10="n",T15調整控除!$B$27,IF(D10="o",T15調整控除!$B$28,0))))))))))),IF(C10="C",IF(D10="e",IF(D2>=70,T15調整控除!$B$8,T15調整控除!$B$5),IF(D10="f",T15調整控除!$B$29,IF(D10="g",T15調整控除!$B$30,IF(D10="h",T15調整控除!$B$31,IF(D10="i",T15調整控除!$B$32,IF(D10="j",T15調整控除!$B$33,IF(D10="k",T15調整控除!$B$34,IF(D10="l",T15調整控除!$B$35,IF(D10="m",T15調整控除!$B$36,IF(D10="n",T15調整控除!$B$37,IF(D10="o",T15調整控除!$B$38,0))))))))))),0))) -> 0 | D30: =IF(D10="A",IF(C10="e",IF(C2>=70,T15調整控除!$B$6,T15調整控除!$B$3),IF(C10="f",T15調整控除!$B$9,IF(C10="g",T15調整控除!$B$10,IF(C10="h",T15調整控除!$B$11,IF(C10="i",T15調整控除!$B$12,IF(C10="j",T15調整控除!$B$13,IF(C10="k",T15調整控除!$B$14,IF(C10="l",T15調整控除!$B$15,IF(C10="m",T15調整控除!$B$16,IF(C10="n",T15調整控除!$B$17,IF(C10="o",T15調整控除!$B$18,0))))))))))),IF(D10="B",IF(C10="e",IF(C2>=70,T15調整控除!$B$7,T15調整控除!$B$4),IF(C10="f",T15調整控除!$B$19,IF(C10="g",T15調整控除!$B$20,IF(C10="h",T15調整控除!$B$21,IF(C10="i",T15調整控除!$B$22,IF(C10="j",T15調整控除!$B$23,IF(C10="k",T15調整控除!$B$24,IF(C10="l",T15調整控除!$B$25,IF(C10="m",T15調整控除!$B$26,IF(C10="n",T15調整控除!$B$27,IF(C10="o",T15調整控除!$B$28,0))))))))))),IF(D10="C",IF(C10="e",IF(C2>=70,T15調整控除!$B$8,T15調整控除!$B$5),IF(C10="f",T15調整控除!$B$29,IF(C10="g",T15調整控除!$B$30,IF(C10="h",T15調整控除!$B$31,IF(C10="i",T15調整控除!$B$32,IF(C10="j",T15調整控除!$B$33,IF(C10="k",T15調整控除!$B$34,IF(C10="l",T15調整控除!$B$35,IF(C10="m",T15調整控除!$B$36,IF(C10="n",T15調整控除!$B$37,IF(C10="o",T15調整控除!$B$38,0))))))))))),0))) -> 0
A31: 人的控除の差額 | B31: =SUM(T15調整控除!$B$2,B12/T13人的控除!$B$39*T15調整控除!$B$39,B13/T13人的控除!$B$40*T15調整控除!$B$40,B14/T13人的控除!$B$41*T15調整控除!$B$41,B15/T13人的控除!$B$42*T15調整控除!$B$42,B16/T13人的控除!$B$44*T15調整控除!$B$44,B17/T13人的控除!$B$45*T15調整控除!$B$45,B18/T13人的控除!$B$46*T15調整控除!$B$46,B19/T13人的控除!$B$47*T15調整控除!$B$47,B20/T13人的控除!$B$48*T15調整控除!$B$48,B21/T13人的控除!$B$49*T15調整控除!$B$49,B30) -> 60000 | C31: =SUM(T15調整控除!$B$2,C12/T13人的控除!$B$39*T15調整控除!$B$39,C13/T13人的控除!$B$40*T15調整控除!$B$40,C14/T13人的控除!$B$41*T15調整控除!$B$41,C15/T13人的控除!$B$42*T15調整控除!$B$42,C16/T13人的控除!$B$44*T15調整控除!$B$44,C17/T13人的控除!$B$45*T15調整控除!$B$45,C18/T13人的控除!$B$46*T15調整控除!$B$46,C19/T13人的控除!$B$47*T15調整控除!$B$47,C20/T13人的控除!$B$48*T15調整控除!$B$48,C21/T13人的控除!$B$49*T15調整控除!$B$49,C30) -> 50000 | D31: =SUM(T15調整控除!$B$2,D12/T13人的控除!$B$39*T15調整控除!$B$39,D13/T13人的控除!$B$40*T15調整控除!$B$40,D14/T13人的控除!$B$41*T15調整控除!$B$41,D15/T13人的控除!$B$42*T15調整控除!$B$42,D16/T13人的控除!$B$44*T15調整控除!$B$44,D17/T13人的控除!$B$45*T15調整控除!$B$45,D18/T13人的控除!$B$46*T15調整控除!$B$46,D19/T13人的控除!$B$47*T15調整控除!$B$47,D20/T13人的控除!$B$48*T15調整控除!$B$48,D21/T13人的控除!$B$49*T15調整控除!$B$49,D30) -> 50000
A32: 調整控除 | B32: =ROUNDDOWN(IF(B28<=T15調整控除!$B$51,IF((MIN(B31,B28))<0,0,MIN(B31,B28))*T15調整控除!$B$52/100,IF((B31-(B28-T15調整控除!$B$51))*T15調整控除!$B$52/100<T15調整控除!$B$53,T15調整控除!$B$53,(B31-(B28-T15調整控除!$B$51))*T15調整控除!$B$52/100)),0) -> 0 | C32: =ROUNDDOWN(IF(C28<=T15調整控除!$B$51,IF((MIN(C31,C28))<0,0,MIN(C31,C28))*T15調整控除!$B$52/100,IF((C31-(C28-T15調整控除!$B$51))*T15調整控除!$B$52/100<T15調整控除!$B$53,T15調整控除!$B$53,(C31-(C28-T15調整控除!$B$51))*T15調整控除!$B$52/100)),0) -> 0 | D32: =ROUNDDOWN(IF(D28<=T15調整控除!$B$51,IF((MIN(D31,D28))<0,0,MIN(D31,D28))*T15調整控除!$B$52/100,IF((D31-(D28-T15調整控除!$B$51))*T15調整控除!$B$52/100<T15調整控除!$B$53,T15調整控除!$B$53,(D31-(D28-T15調整控除!$B$51))*T15調整控除!$B$52/100)),0) -> 0
A33: 調整額 | B33: =IF((((B25-B8)*T16税率等!$B$2/10)+ROUNDDOWN(B29-B32,-2))<0,0,(((B25-B8)*T16税率等!$B$2/10)+ROUNDDOWN(B29-B32,-2))) -> 270000 | C33: =IF((((C25-C8)*T16税率等!$B$2/10)+ROUNDDOWN(C29-C32,-2))<0,0,(((C25-C8)*T16税率等!$B$2/10)+ROUNDDOWN(C29-C32,-2))) -> 270000 | D33: =IF((((D25-D8)*T16税率等!$B$2/10)+ROUNDDOWN(D29-D32,-2))<0,0,(((D25-D8)*T16税率等!$B$2/10)+ROUNDDOWN(D29-D32,-2))) -> 270000
A34: 支給額算定基準額 | B34: =IFERROR(IF(OR(B8<=B26,B8<=B25),0,ROUNDDOWN(IF(OR(B8<=B25,B8<=B25,B29-B32-B33<0),0,B29-B32-B33),-2)),"エラー") -> 0 | C34: =IFERROR(IF(OR(C8<=C26,C8<=C25),0,ROUNDDOWN(IF(OR(C8<=C25,C8<=C25,C29-C32-C33<0),0,C29-C32-C33),-2)),"エラー") -> 0 | D34: =IFERROR(IF(VLOOKUP(海外居住者のための収入等申告書!D33,計算シート!F3:G13,2,0)=2,0,IF(OR(D8<=D26,D8<=D25),0,ROUNDDOWN(IF(OR(D8<=D25,D8<=D25,D29-D32-D33<0),0,D29-D32-D33),-2))),"エラー") -> 0
A35: 申込者本人該当区分：扶養控除（16未満） | C35: =IF(C63=0,IF(VLOOKUP(海外居住者のための収入等申告書!$D$20,計算シート!$F$11:$G$13,2,0)=9,IF(AND($B$2<16,$B$8<=T11所得区分!$B$5+IF(C50=1,100000,0)),1,0),0),0) -> 0 | D35: =IF(C63=0,IF(VLOOKUP(海外居住者のための収入等申告書!$D$20,計算シート!$F$11:$G$13,2,0)=10,IF(AND($B$2<16,$B$8<=T11所得区分!$B$5+IF(C50=1,100000,0)),1,0),0),0) -> 0
A36: 申込者本人該当区分：扶養控除（一般） | C36: =IF(C63=0,IF(VLOOKUP(海外居住者のための収入等申告書!$D$20,計算シート!$F$11:$G$13,2,0)=9,IF(AND(OR(AND($B$2>=16,$B$2<=18),$B$2>22),$B$8<=T11所得区分!$B$5+IF(C50=1,100000,0)),1,0),0),0) -> 0 | D36: =IF(C63=0,IF(VLOOKUP(海外居住者のための収入等申告書!$D$20,計算シート!$F$11:$G$13,2,0)=10,IF(AND(OR(AND($B$2>=16,$B$2<=18),$B$2>22),$B$8<=T11所得区分!$B$5+IF(C50=1,100000,0)),1,0),0),0) -> 0
A37: 申込者本人該当区分：扶養控除（特定） | C37: =IF(C63=0,IF(VLOOKUP(海外居住者のための収入等申告書!$D$20,計算シート!$F$11:$G$13,2,0)=9,IF(AND(AND($B$2>=19,$B$2<=22),$B$8<=T11所得区分!$B$5+IF(C50=1,100000,0)),1,0),0),0) -> 0 | D37: =IF(C63=0,IF(VLOOKUP(海外居住者のための収入等申告書!$D$20,計算シート!$F$11:$G$13,2,0)=10,IF(AND(AND($B$2>=19,$B$2<=22),$B$8<=T11所得区分!$B$5+IF(C50=1,100000,0)),1,0),0),0) -> 0
A38: 申込者本人該当区分：障害者控除（一般） | C38: =IF(C63=0,IF(AND(SUM(C35:C37)>0,$B$16>0),1,0),0) -> 0 | D38: =IF(C63=0,IF(AND(SUM(D35:D37)>0,$B$16>0),1,0),0) -> 0
A39: 申込者本人該当区分：障害者控除（特定） | C39: =IF(C63=0,IF(AND(SUM(C35:C37)>0,$B$17>0,C40=0),1,0),0) -> 0 | D39: =IF(C63=0,IF(AND(SUM(D35:D37)>0,$B$17>0,D40=0),1,0),0) -> 0
A40: 申込者本人該当区分：障害者控除（同特） | C40: =IF(C63=0,IF(AND(SUM(C35:C37)>0,$B$17>0,VLOOKUP(海外居住者のための収入等申告書!$D$22,計算シート!$F$3:$G$13,2,0)=1),1,0),0) -> 0 | D40: =IF(C63=0,IF(AND(SUM(D35:D37)>0,$B$17>0,VLOOKUP(海外居住者のための収入等申告書!$D$22,計算シート!$F$3:$G$13,2,0)=1),1,0),0) -> 0
...

Sheet 出力用
A1: 申込受付番号・奨学生番号 | B1: 本人_年齢 | C1: 本人_給与収入金額JPY | D1: 本人_給与所得金額 | E1: 本人_年金収入金額JPY | F1: 本人_年金所得金額 | G1: 本人_事業所得金額JPY | H1: 本人_合計所得金額 | I1: 本人_配偶者有無 | J1: 本人_配偶者控除区分 | K1: 本人_配偶者（特別）控除額 | L1: 本人_扶養控除（一般） | M1: 本人_扶養控除（特定） | N1: 本人_扶養控除（老人） | O1: 本人_扶養控除（同老） | P1: 本人_障害者控除（一般） | Q1: 本人_障害者控除（特定） | R1: 本人_障害者控除（同特） | S1: 本人_寡婦控除（本人の場合は勤労学生控除） | T1: 本人_寡婦特別控除 | U1: 本人_寡夫控除 | V1: 本人_基礎控除 | W1: 本人_扶養親族等の数 | X1: 本人_社会保険料等控除 | Y1: 本人_非課税限度 | Z1: 本人_非課税となる基準 | AA1: 本人_所得控除合計額 | AB1: 本人_課税標準額 | AC1: 本人_算出税額 | AD1: 本人_配偶者（特別）の差額 | AE1: 本人_人的控除の差額 | AF1: 本人_調整控除 | AG1: 本人_調整額 | AH1: 本人_支給額算定基準額 | AI1: 維持者１_年齢 | AJ1: 維持者１_給与収入金額JPY | AK1: 維持者１_給与所得金額 | AL1: 維持者１_年金収入金額JPY | AM1: 維持者１_年金所得金額 | AN1: 維持者１_事業所得金額JPY | AO1: 維持者１_合計所得金額 | AP1: 維持者１_配偶者有無 | AQ1: 維持者１_配偶者控除区分 | AR1: 維持者１_配偶者（特別）控除額 | AS1: 維持者１_扶養控除（一般） | AT1: 維持者１_扶養控除（特定） | AU1: 維持者１_扶養控除（老人） | AV1: 維持者１_扶養控除（同老） | AW1: 維持者１_障害者控除（一般） | AX1: 維持者１_障害者控除（特定） | AY1: 維持者１_障害者控除（同特） | AZ1: 維持者１_寡婦控除（本人の場合は勤労学生控除） | BA1: 維持者１_寡婦特別控除 | BB1: 維持者１_寡夫控除 | BC1: 維持者１_基礎控除 | BD1: 維持者１_扶養親族等の数 | BE1: 維持者１_社会保険料等控除 | BF1: 維持者１_非課税限度 | BG1: 維持者１_非課税となる基準 | BH1: 維持者１_所得控除合計額 | BI1: 維持者１_課税標準額 | BJ1: 維持者１_算出税額 | BK1: 維持者１_配偶者（特別）の差額 | BL1: 維持者１_人的控除の差額 | BM1: 維持者１_調整控除 | BN1: 維持者１_調整額 | BO1: 維持者１_支給額算定基準額 | BP1: 維持者１_申込者本人該当区分：扶養控除（16未満） | BQ1: 維持者１_申込者本人該当区分：扶養控除（一般） | BR1: 維持者１_申込者本人該当区分：扶養控除（特定） | BS1: 維持者１_申込者本人該当区分：障害者控除（一般） | BT1: 維持者１_申込者本人該当区分：障害者控除（特定） | BU1: 維持者１_申込者本人該当区分：障害者控除（同特） | BV1: 維持者１_給与・年金計 | BW1: 維持者１_事業等所得 | BX1: 維持者１_申込区分 | BY1: 維持者１_申込年度 | BZ1: 維持者１_前年当年区分（0=前年 1=当年） | CA1: 維持者１_賦課期日 | CB1: 維持者１_前年レートの年 | CC1: 維持者１_当年レートの年 | CD1: 維持者１_使用するレート | CE1: 維持者１_税制改正新旧判定 | CF1: 維持者１_所得金額調整控除Ａ | CG1: 維持者１_所得金額調整控除Ｂ | CH1: 維持者１_早生まれ適用年度判定 | CI1: 維持者１_本人年末年齢 | CJ1: 維持者１_本人生年月日 | CK1: 維持者１_早生まれ判定 | CL1: 維持者１_早生まれ控除額 | CM1: 維持者１_支給額算定基準額(早生まれ適用後) | CN1: 維持者２_年齢 | CO1: 維持者２_給与収入金額JPY | CP1: 維持者２_給与所得金額 | CQ1: 維持者２_年金収入金額JPY | CR1: 維持者２_年金所得金額 | CS1: 維持者２_事業所得金額JPY | CT1: 維持者２_合計所得金額 | CU1: 維持者２_配偶者有無 | CV1: 維持者２_配偶者控除区分 | CW1: 維持者２_配偶者（特別）控除額 | CX1: 維持者２_扶養控除（一般） | CY1: 維持者２_扶養控除（特定） | CZ1: 維持者２_扶養控除（老人） | DA1: 維持者２_扶養控除（同老） | DB1: 維持者２_障害者控除（一般） | DC1: 維持者２_障害者控除（特定） | DD1: 維持者２_障害者控除（同特） | DE1: 維持者２_寡婦控除（本人の場合は勤労学生控除） | DF1: 維持者２_寡婦特別控除 | DG1: 維持者２_寡夫控除 | DH1: 維持者２_基礎控除 | DI1: 維持者２_扶養親族等の数 | DJ1: 維持者２_社会保険料等控除 | DK1: 維持者２_非課税限度 | DL1: 維持者２_非課税となる基準 | DM1: 維持者２_所得控除合計額 | DN1: 維持者２_課税標準額 | DO1: 維持者２_算出税額 | DP1: 維持者２_配偶者（特別）の差額 | DQ1: 維持者２_人的控除の差額 | DR1: 維持者２_調整控除 | DS1: 維持者２_調整額 | DT1: 維持者２_支給額算定基準額 | DU1: 維持者２_申込者本人該当区分：扶養控除（16未満） | DV1: 維持者２_申込者本人該当区分：扶養控除（一般） | DW1: 維持者２_申込者本人該当区分：扶養控除（特定） | DX1: 維持者２_申込者本人該当区分：障害者控除（一般） | DY1: 維持者２_申込者本人該当区分：障害者控除（特定） | DZ1: 維持者２_申込者本人該当区分：障害者控除（同特） | EA1: 維持者２_給与・年金計 | EB1: 維持者２_事業等所得 | EC1: 維持者２_申込区分 | ED1: 維持者２_申込年度 | EE1: 維持者２_前年当年区分（0=前年 1=当年） | EF1: 維持者２_賦課期日 | EG1: 維持者２_前年レートの年 | EH1: 維持者２_当年レートの年 | EI1: 維持者２_使用するレート | EJ1: 維持者２_税制改正新旧判定 | EK1: 維持者２_所得金額調整控除Ａ | EL1: 維持者２_所得金額調整控除Ｂ | EM1: 維持者２_早生まれ適用年度判定 | EN1: 維持者２_本人年末年齢 | EO1: 維持者２_本人生年月日 | EP1: 維持者２_早生まれ判定 | EQ1: 維持者２_早生まれ控除額 | ER1: 維持者２_支給額算定基準額(早生まれ適用後) | ES1: 維持者１_控除前貸与額算定基準額 | ET1: 維持者２_控除前貸与額算定基準額 | EU1: 子の数 | EV1: ひとり親該当
A2: =海外居住者のための収入等申告書!D11&海外居住者のための収入等申告書!F11&海外居住者のための収入等申告書!H11 | B2: =INDIRECT("計算シート!B"&COLUMN(B1)) -> 0 | C2: =INDIRECT("計算シート!B"&COLUMN(C1)) -> 0 | D2: =INDIRECT("計算シート!B"&COLUMN(D1)) -> 0 | E2: =INDIRECT("計算シート!B"&COLUMN(E1)) -> 0 | F2: =INDIRECT("計算シート!B"&COLUMN(F1)) -> 0 | G2: =INDIRECT("計算シート!B"&COLUMN(G1)) -> 0 | H2: =INDIRECT("計算シート!B"&COLUMN(H1)) -> 0 | I2: =INDIRECT("計算シート!B"&COLUMN(I1)) -> 0 | ... AH2: =INDIRECT("計算シート!B"&COLUMN(AH1)) -> 0 | AI2: =INDIRECT("計算シート!c"&COLUMN(AH1)-32) -> 73 | AJ2: =INDIRECT("計算シート!c"&COLUMN(AI1)-32) -> 0 | AK2: =INDIRECT("計算シート!c"&COLUMN(AJ1)-32) -> 0 | AL2: =INDIRECT("計算シート!c"&COLUMN(AK1)-32) -> 0 | AM2: =INDIRECT("計算シート!c"&COLUMN(AL1)-32) -> 0 | AN2: =INDIRECT("計算シート!c"&COLUMN(AM1)-32) -> 0 | AO2: =INDIRECT("計算シート!c"&COLUMN(AN1)-32) -> 0 | AP2: =INDIRECT("計算シート!c"&COLUMN(AO1)-32) -> 0 | ... CM2: =INDIRECT("計算シート!c"&COLUMN(CL1)-32) -> 0 | CN2: =INDIRECT("計算シート!d"&COLUMN(CM1)-89) -> 73 | CO2: =INDIRECT("計算シート!d"&COLUMN(CN1)-89) -> 0 | CP2: =INDIRECT("計算シート!d"&COLUMN(CO1)-89) -> 0 | CQ2: =INDIRECT("計算シート!d"&COLUMN(CP1)-89) -> 0 | CR2: =INDIRECT("計算シート!d"&COLUMN(CQ1)-89) -> 0 | CS2: =INDIRECT("計算シート!d"&COLUMN(CR1)-89) -> 0 | CT2: =INDIRECT("計算シート!d"&COLUMN(CS1)-89) -> 0 | CU2: =INDIRECT("計算シート!d"&COLUMN(CT1)-89) -> 0 | ... ER2: =INDIRECT("計算シート!d"&COLUMN(EQ1)-89) -> 0 | ES2: =計算シート!C59 -> 0 | ET2: =計算シート!D59 -> 0 | EU2: =計算シート!C61 -> 0 | EV2: =計算シート!C62 -> 0

Sheet T11所得区分
A1: 項番 | B1: 値 | C1: 入力形式 | D1: 説明
A2: 1 | B2: 9000000 | C2: 数値 | D2: 配偶者控除のための家計支持者１の所得区分A
A3: 2 | B3: 9500000 | C3: 数値 | D3: 配偶者控除のための家計支持者１の所得区分B
A4: 3 | B4: 10000000 | C4: 数値 | D4: 配偶者控除のための家計支持者１の所得区分C
A5: 4 | B5: 380000 | C5: 数値 | D5: 配偶者控除のための家計支持者２の所得区分a
A6: 5 | B6: 400000 | C6: 数値 | D6: 配偶者特別控除のための家計支持者２の所得区分b
A7: 6 | B7: 450000 | C7: 数値 | D7: 配偶者特別控除のための家計支持者２の所得区分c
A8: 7 | B8: 900000 | C8: 数値 | D8: 配偶者特別控除のための家計支持者２の所得区分d
A9: 8 | B9: 950000 | C9: 数値 | D9: 配偶者特別控除のための家計支持者２の所得区分e
A10: 9 | B10: 1000000 | C10: 数値 | D10: 配偶者特別控除のための家計支持者２の所得区分f
A11: 10 | B11: 1050000 | C11: 数値 | D11: 配偶者特別控除のための家計支持者２の所得区分g
A12: 11 | B12: 1100000 | C12: 数値 | D12: 配偶者特別控除のための家計支持者２の所得区分h
A13: 12 | B13: 1150000 | C13: 数値 | D13: 配偶者特別控除のための家計支持者２の所得区分i
... A79: 78 | B79: 100000 | C79: 数値 | D79: 所得金額調整控除②のための給与所得区分

Sheet T12給与所得
A1: 項番 | B1: 値 | C1: 入力形式 | D1: 説明
A2: 1 | B2: 0 | C2: 文字列 | D2: 651000未満の給与所得金額
A3: 2 | B3: 給与収入金額-650000 | C3: 文字列 | D3: 1619000未満の給与所得金額
A4: 3 | B4: 969000 | C4: 文字列 | D4: 1620000未満の給与所得金額
A5: 4 | B5: 970000 | C5: 文字列 | D5: 1622000未満の給与所得金額
A6: 5 | B6: 972000 | C6: 文字列 | D6: 1624000未満の給与所得金額
A7: 6 | B7: 974000 | C7: 文字列 | D7: 1628000未満の給与所得金額
A8: 7 | B8: Rounddown(給与収入金額/4000,0)*4000*0.6 | C8: 文字列 | D8: 1800000未満の給与所得金額
A9: 8 | B9: Rounddown(給与収入金額/4000,0)*4000*0.7-180000 | C9: 文字列 | D9: 3600000未満の給与所得金額
A10: 9 | B10: Rounddown(給与収入金額/4000,0)*4000*0.8-540000 | C10: 文字列 | D10: 6600000未満の給与所得金額
A11: 10 | B11: 給与収入金額*0.9-1200000 | C11: 文字列 | D11: 10000000未満の給与所得金額
A12: 11 | B12: 給与収入金額-2200000 | C12: 文字列 | D12: 10000000以上の給与所得金額
A13: 1 | B13: 65 | C13: 数値 | D13: 年金年齢区分
A14: 2 | B14: 3300000 | C14: 数値 | D14: 年金65歳以上の収入区分1
A15: 3 | B15: 4100000 | C15: 数値 | D15: 年金65歳以上の収入区分2
A16: 4 | B16: 7700000 | C16: 数値 | D16: 年金65歳以上の収入区分3
A17: 5 | B17: 10000000 | C17: 数値 | D17: 年金65歳以上の収入区分4(平成33年度より使用)
A18: 6 | B18: 1300000 | C18: 数値 | D18: 年金65歳未満の収入区分1
A19: 7 | B19: 4100000 | C19: 数値 | D19: 年金65歳未満の収入区分2
A20: 8 | B20: 7700000 | C20: 数値 | D20: 年金65歳未満の収入区分3
A21: 9 | B21: 10000000 | C21: 数値 | D21: 年金65歳未満の収入区分4(平成33年度より使用)
A22: 10 | B22: 収入金額-1200000 | C22: 数値 | D22: 65歳以上の年金所得額1
A23: 11 | B23: 収入金額*0.75-375000 | C23: 数値 | D23: 65歳以上の年金所得額2
A24: 12 | B24: 収入金額*0.85-785000 | C24: 数値 | D24: 65歳以上の年金所得額3
A25: 13 | B25: 収入金額*0.95-1555000 | C25: 数値 | D25: 65歳以上の年金所得額4
A26: 14 | B26: 収入金額-1995000 | C26: 数値 | D26: 65歳以上の年金所得額5(平成33年度より使用)
A27: 15 | B27: 収入金額-700000 | C27: 数値 | D27: 65歳未満の年金所得額1
A28: 16 | B28: 収入金額*0.75-375000 | C28: 数値 | D28: 65歳未満の年金所得額2
A29: 17 | B29: 収入金額*0.85-785000 | C29: 数値 | D29: 65歳未満の年金所得額3
A30: 18 | B30: 収入金額*0.95-1555000 | C30: 数値 | D30: 65歳未満の年金所得額4
A31: 19 | B31: 収入金額-1995000 | C31: 数値 | D31: 65歳未満の年金所得額5(平成33年度より使用)
B32: ※給与収入金額=Kyuyoshunyu1またはKyuyoshunyu2
B33: ※Ｔ04には反映されていないが、実際にはT11の給与収入の区分に応じて上記の計算式を適用

Sheet T12給与所得改正後
A1: 項番 | B1: 値 | C1: 入力形式 | D1: 説明
A2: 1 | B2: 0 | C2: 文字列 | D2: 551000未満の給与所得金額
A3: 2 | B3: 給与収入金額-550000 | C3: 文字列 | D3: 1619000未満の給与所得金額
A4: 3 | B4: 1069000 | C4: 数値 | D4: 1620000未満の給与所得金額
A5: 4 | B5: 1070000 | C5: 数値 | D5: 1622000未満の給与所得金額
A6: 5 | B6: 1072000 | C6: 数値 | D6: 1624000未満の給与所得金額
A7: 6 | B7: 1074000 | C7: 数値 | D7: 1628000未満の給与所得金額
A8: 7 | B8: Rounddown(給与収入金額/4000,0)*4000*0.6+100000 | C8: 文字列 | D8: 1800000未満の給与所得金額
A9: 8 | B9: Rounddown(給与収入金額/4000,0)*4000*0.7-80000 | C9: 文字列 | D9: 3600000未満の給与所得金額
A10: 9 | B10: Rounddown(給与収入金額/4000,0)*4000*0.8-440000 | C10: 文字列 | D10: 6600000未満の給与所得金額
A11: 10 | B11: 給与収入金額*0.9-1100000 | C11: 文字列 | D11: 8500000未満の給与所得金額
A12: 11 | B12: 給与収入金額-1950000 | C12: 文字列 | D12: 8500000以上の給与所得金額
A13: 12 | B13: 550000 | C13: 数値 | D13: 1619000未満の給与所得金額計算
A14: 13 | B14: -100000 | C14: 数値 | D14: 1800000未満の給与所得金額計算
A15: 14 | B15: 80000 | C15: 数値 | D15: 3600000未満の給与所得金額計算
A16: 15 | B16: 440000 | C16: 数値 | D16: 6600000未満の給与所得金額計算
A17: 16 | B17: 1100000 | C17: 数値 | D17: 8500000未満の給与所得金額計算
A18: 17 | B18: 1950000 | C18: 数値 | D18: 8500000以上の給与所得金額計算
A19: 18 | B19: 0.6 | C19: 数値 | D19: 1800000未満の給与所得金額計算
A20: 19 | B20: 0.7 | C20: 数値 | D20: 3600000未満の給与所得金額計算
A21: 20 | B21: 0.8 | C21: 数値 | D21: 6600000未満の給与所得金額計算
A22: 21 | B22: 0.9 | C22: 数値 | D22: 8500000未満の給与所得金額計算
A23: 1 | B23: 65 | C23: 数値 | D23: 年金年齢区分
A24: 2 | B24: 3300000 | C24: 数値 | D24: 年金65歳以上の収入区分1
... A31: 9 | B31: 10000000 | C31: 数値 | D31: 年金65歳未満の収入区分4(平成33年度より使用)
A32: 10 | B32: 収入金額-1200000 | C32: 数値 | D32: 65歳以上の年金所得額1
A33: 11 | B33: 収入金額*0.75-375000 | C33: 数値 | D33: 65歳以上の年金所得額2
A34: 12 | B34: 収入金額*0.85-785000 | C34: 数値 | D34: 65歳以上の年金所得額3
A35: 13 | B35: 収入金額*0.95-1555000 | C35: 数値 | D35: 65歳以上の年金所得額4
A36: 14 | B36: 収入金額-1995000 | C36: 数値 | D36: 65歳以上の年金所得額5(平成33年度より使用)
A37: 15 | B37: 収入金額-700000 | C37: 数値 | D37: 65歳未満の年金所得額1
A38: 16 | B38: 収入金額*0.75-375000 | C38: 数値 | D38: 65歳未満の年金所得額2
A39: 17 | B39: 収入金額*0.85-785000 | C39: 数値 | D39: 65歳未満の年金所得額3
A40: 18 | B40: 収入金額*0.95-1555000 | C40: 数値 | D40: 65歳未満の年金所得額4
A41: 19 | B41: 収入金額-1995000 | C41: 数値 | D41: 65歳未満の年金所得額5(平成33年度より使用)
B42: ※給与収入金額=Kyuyoshunyu1またはKyuyoshunyu2
B43: ※Ｔ04には反映されていないが、実際にはT11の給与収入の区分に応じて上記の計算式を適用

Sheet T13人的控除
A1: 項番 | B1: 値 | C1: 入力形式 | D1: 説明
A2: 1 | B2: 330000 | C2: 数値 | D2: 基礎控除
A3: 2 | B3: 330000 | C3: 数値 | D3: 配偶者控除（所得900以下） | E3: Aa
A4: 3 | B4: 220000 | C4: 数値 | D4: 配偶者控除（所得950以下） | E4: Ba
A5: 4 | B5: 110000 | C5: 数値 | D5: 配偶者控除（所得1000以下） | E5: Ca
A6: 5 | B6: 380000 | C6: 数値 | D6: 老人配偶者控除（所得900以下）
A7: 6 | B7: 260000 | C7: 数値 | D7: 老人配偶者控除（所得950以下）
A8: 7 | B8: 130000 | C8: 数値 | D8: 老人配偶者控除（所得1000以下）
A9: 8 | B9: 330000 | C9: 数値 | D9: 配偶者特別控除（所得900以下・配偶者40未満） | E9: Ab
A10: 9 | B10: 330000 | C10: 数値 | D10: 配偶者特別控除（所得900以下・配偶者45未満） | E10: Ac
A11: 10 | B11: 330000 | C11: 数値 | D11: 配偶者特別控除（所得900以下・配偶者90以下） | E11: Ad
A12: 11 | B12: 310000 | C12: 数値 | D12: 配偶者特別控除（所得900以下・配偶者95以下） | E12: Ae
A13: 12 | B13: 260000 | C13: 数値 | D13: 配偶者特別控除（所得900以下・配偶者100以下） | E13: Af
A14: 13 | B14: 210000 | C14: 数値 | D14: 配偶者特別控除（所得900以下・配偶者105以下） | E14: Ag
A15: 14 | B15: 160000 | C15: 数値 | D15: 配偶者特別控除（所得900以下・配偶者110以下） | E15: Ah
A16: 15 | B16: 110000 | C16: 数値 | D16: 配偶者特別控除（所得900以下・配偶者115以下） | E16: Ai
A17: 16 | B17: 60000 | C17: 数値 | D17: 配偶者特別控除（所得900以下・配偶者120以下） | E17: Aj
A18: 17 | B18: 30000 | C18: 数値 | D18: 配偶者特別控除（所得900以下・配偶者123以下） | E18: Ak
A19: 18 | B19: 220000 | C19: 数値 | D19: 配偶者特別控除（所得950以下・配偶者40未満） | E19: Bb
A20: 19 | B20: 220000 | C20: 数値 | D20: 配偶者特別控除（所得950以下・配偶者45未満） | E20: Bc
... A38: 37 | B38: 10000 | C38: 数値 | D38: 配偶者特別控除（所得1000以下・配偶者123以下） | E38: Ck
A39: 38 | B39: 330000 | C39: 数値 | D39: 扶養控除（一般）
A40: 39 | B40: 450000 | C40: 数値 | D40: 扶養控除（特定）
A41: 40 | B41: 380000 | C41: 数値 | D41: 扶養控除（老人）
A42: 41 | B42: 450000 | C42: 数値 | D42: 扶養控除（同老）
A43: 42 | B43: 0 | C43: 数値 | D43: 16歳未満扶養親族
A44: 43 | B44: 260000 | C44: 数値 | D44: 障害者控除（一般）
A45: 44 | B45: 300000 | C45: 数値 | D45: 障害者控除（特定）
A46: 45 | B46: 530000 | C46: 数値 | D46: 障害者控除（同特）
A47: 46 | B47: 260000 | C47: 数値 | D47: 寡婦控除
A48: 47 | B48: 300000 | C48: 数値 | D48: 特別寡婦控除
A49: 48 | B49: 260000 | C49: 数値 | D49: 寡夫控除
A50: 49 | B50: 260000 | C50: 数値 | D50: 控除対象勤労学生
... A59: 58 | B59: 150000 | C59: 数値 | D59: 基礎控除（合計所得金額が 2,450 万円を超え 2,500 万円以下の場合）

Sheet T15調整控除
A1: 項番 | B1: 値 | C1: 入力形式 | D1: 説明
A2: 1 | B2: 50000 | C2: 数値 | D2: 基礎控除
A3: 2 | B3: 50000 | C3: 数値 | D3: 配偶者控除（所得900以下） | E3: a
A4: 3 | B4: 40000 | C4: 数値 | D4: 配偶者控除（所得950以下） | E4: a
A5: 4 | B5: 20000 | C5: 数値 | D5: 配偶者控除（所得1000以下） | E5: a
A6: 5 | B6: 100000 | C6: 数値 | D6: 老人配偶者控除（所得900以下）
A7: 6 | B7: 60000 | C7: 数値 | D7: 老人配偶者控除（所得950以下）
A8: 7 | B8: 30000 | C8: 数値 | D8: 老人配偶者控除（所得1000以下）
A9: 8 | B9: 50000 | C9: 数値 | D9: 配偶者特別控除（所得900以下・配偶者40未満） | E9: b
A10: 9 | B10: 30000 | C10: 数値 | D10: 配偶者特別控除（所得900以下・配偶者45未満） | E10: c
A11: 10 | B11: 0 | C11: 数値 | D11: 配偶者特別控除（所得900以下・配偶者90以下）
A12: 11 | B12: 0 | C12: 数値 | D12: 配偶者特別控除（所得900以下・配偶者95以下）
A13: 12 | B13: 0 | C13: 数値 | D13: 配偶者特別控除（所得900以下・配偶者100以下）
A14: 13 | B14: 0 | C14: 数値 | D14: 配偶者特別控除（所得900以下・配偶者105以下）
A15: 14 | B15: 0 | C15: 数値 | D15: 配偶者特別控除（所得900以下・配偶者110以下）
A16: 15 | B16: 0 | C16: 数値 | D16: 配偶者特別控除（所得900以下・配偶者115以下）
A17: 16 | B17: 0 | C17: 数値 | D17: 配偶者特別控除（所得900以下・配偶者120以下）
A18: 17 | B18: 0 | C18: 数値 | D18: 配偶者特別控除（所得900以下・配偶者123以下）
A19: 18 | B19: 40000 | C19: 数値 | D19: 配偶者特別控除（所得950以下・配偶者40未満） | E19: b
A20: 19 | B20: 20000 | C20: 数値 | D20: 配偶者特別控除（所得950以下・配偶者45未満） | E20: c
A21: 20 | B21: 0 | C21: 数値 | D21: 配偶者特別控除（所得950以下・配偶者90以下）
A22: 21 | B22: 0 | C22: 数値 | D22: 配偶者特別控除（所得950以下・配偶者95以下）
A23: 22 | B23: 0 | C23: 数値 | D23: 配偶者特別控除（所得950以下・配偶者100以下）
A24: 23 | B24: 0 | C24: 数値 | D24: 配偶者特別控除（所得950以下・配偶者105以下）
A25: 24 | B25: 0 | C25: 数値 | D25: 配偶者特別控除（所得950以下・配偶者110以下）
A26: 25 | B26: 0 | C26: 数値 | D26: 配偶者特別控除（所得950以下・配偶者115以下）
A27: 26 | B27: 0 | C27: 数値 | D27: 配偶者特別控除（所得950以下・配偶者120以下）
A28: 27 | B28: 0 | C28: 数値 | D28: 配偶者特別控除（所得950以下・配偶者123以下）
A29: 28 | B29: 20000 | C29: 数値 | D29: 配偶者特別控除（所得1000以下・配偶者40未満） | E29: b
A30: 29 | B30: 10000 | C30: 数値 | D30: 配偶者特別控除（所得1000以下・配偶者45未満） | E30: c
A31: 30 | B31: 0 | C31: 数値 | D31: 配偶者特別控除（所得1000以下・配偶者90以下）
A32: 31 | B32: 0 | C32: 数値 | D32: 配偶者特別控除（所得1000以下・配偶者95以下）
A33: 32 | B33: 0 | C33: 数値 | D33: 配偶者特別控除（所得1000以下・配偶者100以下）
A34: 33 | B34: 0 | C34: 数値 | D34: 配偶者特別控除（所得1000以下・配偶者105以下）
A35: 34 | B35: 0 | C35: 数値 | D35: 配偶者特別控除（所得1000以下・配偶者110以下）
A36: 35 | B36: 0 | C36: 数値 | D36: 配偶者特別控除（所得1000以下・配偶者115以下）
A37: 36 | B37: 0 | C37: 数値 | D37: 配偶者特別控除（所得1000以下・配偶者120以下）
A38: 37 | B38: 0 | C38: 数値 | D38: 配偶者特別控除（所得1000以下・配偶者123以下）
A39: 38 | B39: 50000 | C39: 数値 | D39: 扶養控除（一般）
A40: 39 | B40: 180000 | C40: 数値 | D40: 扶養控除（特定）
...

Sheet T16税率等
A1: 項番 | B1: 値 | C1: 入力形式 | D1: 説明
A2: 1 | B2: 6 | C2: 数値 | D2: 指定都市以外の市町村民税所得割税率
A3: 2 | B3: 8 | C3: 数値 | D3: 指定都市の市町村民税所得割税率
A4: 3 | B4: 1000 | C4: 数値 | D4: 課税標準額の単位
A5: 4 | B5: 100 | C5: 数値 | D5: 所得割額の単位

Sheet 修正履歴
A1: 更新履歴
A2: 43556 | B2: 公開用に作成
A3: 43840 | B3: 報告省令レートを更新
A4: 44056 | B4: 適格認定（経済）に対応
A5: 44200 | B5: 税制改正対応、報告省令レートを更新、バージョンを日付に修正
A6: 44273 | B6: 税制改正後の寡婦の表記をひとり親に修正
A7: 44287 | B7: 採用時の表記が適格認定のものになっていたのを修正。他言及個所は可変とした
A8: 44652 | B8: 年度更新、早生まれ控除対応
A9: 44753 | B9: 年齢を参照している計算式の修正
A10: 44986 | B10: 年度更新、貸与基準見直し対応
A11: 45243 | B11: 勤労学生控除の条件を修正
A12: 45285 | B12: 前年レートの計算式、高所得層の給与所得計算方法の修正
A13: 45364 | B13: 年度更新
... A16: 45531 | B16: 大学院の提出書類からひとり親に関する書類の〇を削除
